BEGIN:VCALENDAR
VERSION:2.0
PRODID:-//Muusikute fond PLMF - ECPv6.15.17.1//NONSGML v1.0//EN
CALSCALE:GREGORIAN
METHOD:PUBLISH
X-WR-CALNAME:Muusikute fond PLMF
X-ORIGINAL-URL:https://www.plmf.ee
X-WR-CALDESC:Events for Muusikute fond PLMF
REFRESH-INTERVAL;VALUE=DURATION:PT1H
X-Robots-Tag:noindex
X-PUBLISHED-TTL:PT1H
BEGIN:VTIMEZONE
TZID:Europe/Helsinki
BEGIN:DAYLIGHT
TZOFFSETFROM:+0200
TZOFFSETTO:+0300
TZNAME:EEST
DTSTART:20210328T010000
END:DAYLIGHT
BEGIN:STANDARD
TZOFFSETFROM:+0300
TZOFFSETTO:+0200
TZNAME:EET
DTSTART:20211031T010000
END:STANDARD
BEGIN:DAYLIGHT
TZOFFSETFROM:+0200
TZOFFSETTO:+0300
TZNAME:EEST
DTSTART:20220327T010000
END:DAYLIGHT
BEGIN:STANDARD
TZOFFSETFROM:+0300
TZOFFSETTO:+0200
TZNAME:EET
DTSTART:20221030T010000
END:STANDARD
BEGIN:DAYLIGHT
TZOFFSETFROM:+0200
TZOFFSETTO:+0300
TZNAME:EEST
DTSTART:20230326T010000
END:DAYLIGHT
BEGIN:STANDARD
TZOFFSETFROM:+0300
TZOFFSETTO:+0200
TZNAME:EET
DTSTART:20231029T010000
END:STANDARD
BEGIN:DAYLIGHT
TZOFFSETFROM:+0200
TZOFFSETTO:+0300
TZNAME:EEST
DTSTART:20240331T010000
END:DAYLIGHT
BEGIN:STANDARD
TZOFFSETFROM:+0300
TZOFFSETTO:+0200
TZNAME:EET
DTSTART:20241027T010000
END:STANDARD
BEGIN:DAYLIGHT
TZOFFSETFROM:+0200
TZOFFSETTO:+0300
TZNAME:EEST
DTSTART:20250330T010000
END:DAYLIGHT
BEGIN:STANDARD
TZOFFSETFROM:+0300
TZOFFSETTO:+0200
TZNAME:EET
DTSTART:20251026T010000
END:STANDARD
BEGIN:DAYLIGHT
TZOFFSETFROM:+0200
TZOFFSETTO:+0300
TZNAME:EEST
DTSTART:20260329T010000
END:DAYLIGHT
BEGIN:STANDARD
TZOFFSETFROM:+0300
TZOFFSETTO:+0200
TZNAME:EET
DTSTART:20261025T010000
END:STANDARD
END:VTIMEZONE
BEGIN:VEVENT
DTSTART;TZID=Europe/Helsinki:20251119T190000
DTEND;TZID=Europe/Helsinki:20251119T210000
DTSTAMP:20260419T165116
CREATED:20251001T143813Z
LAST-MODIFIED:20251023T123509Z
UID:62605-1763578800-1763586000@www.plmf.ee
SUMMARY:Muusikute fondi PLMF kontsert - "Tšello ja akordion – vestlus läbi aegade" Viru-Nigula rahvamajas
DESCRIPTION:Viru-Nigula valla kultuurikeskus ja Muusikute fond PLMF esitlevad\nViru-Nigula rahvamaja\n19.11 kl 19\nTŠELLO JA AKORDION – VESTLUS LÄBI AEGADE\nAndreas Lend (tšello)\, Allan Jakobi (akordion)\nKavas: Piazzolla\, Valgre\, Ehala jt.\nPiletid hinnaga 7/5€ on saadaval kohapeal!
URL:https://www.plmf.ee/kontsert/muusikute-fondi-plmf-kontsert-tsello-ja-akordion-vestlus-labi-aegade-viru-nigula-rahvamajas/
LOCATION:Viru-Nigula Rahvamaja\, Kunda tee 8\, Viru-Nigula\, Lääne-Viru maakond\, 44001\, Eesti
CATEGORIES:Kontserdid
ATTACH;FMTTYPE=image/jpeg:https://www.plmf.ee/wp-content/uploads/2025/10/1-1.jpg
ORGANIZER;CN="Pille Lille Muusikute Fond":MAILTO:plmf@plmf.ee
GEO:59.4465222;26.6881879
X-APPLE-STRUCTURED-LOCATION;VALUE=URI;X-ADDRESS=Viru-Nigula Rahvamaja Kunda tee 8 Viru-Nigula Lääne-Viru maakond 44001 Eesti;X-APPLE-RADIUS=500;X-TITLE=Kunda tee 8:geo:26.6881879,59.4465222
END:VEVENT
BEGIN:VEVENT
DTSTART;TZID=Europe/Helsinki:20250223T140000
DTEND;TZID=Europe/Helsinki:20250223T150000
DTSTAMP:20260419T165116
CREATED:20250130T173530Z
LAST-MODIFIED:20250130T173530Z
UID:60085-1740319200-1740322800@www.plmf.ee
SUMMARY:Muusikute fondi PLMF Eesti Vabariigi aastapäeva kontsert Viru-Nigula Rahvamajas - Listra / Paemurru
DESCRIPTION:Viru-Nigula valla kultuurikeskus ja Muusikute fond PLMF esitlevad\nViru-Nigula Rahvamaja\n23.02 kl 14\nEESTI VABARIIGI AASTAPÄEV\nMaria Listra (sopran)\, Piia Paemurru (klaver)\nKavas: Härma\, Ehala\, Valgre jt.\nPilet: 5€
URL:https://www.plmf.ee/kontsert/muusikute-fondi-plmf-eesti-vabariigi-aastapaeva-kontsert-viru-nigula-rahvamajas-listra-paemurru/
LOCATION:Viru-Nigula Rahvamaja\, Kunda tee 8\, Viru-Nigula\, Lääne-Viru maakond\, 44001\, Eesti
CATEGORIES:Kontserdid
ATTACH;FMTTYPE=image/jpeg:https://www.plmf.ee/wp-content/uploads/2025/01/1-5.jpg
ORGANIZER;CN="Pille Lille Muusikute Fond":MAILTO:plmf@plmf.ee
GEO:59.4465222;26.6881879
X-APPLE-STRUCTURED-LOCATION;VALUE=URI;X-ADDRESS=Viru-Nigula Rahvamaja Kunda tee 8 Viru-Nigula Lääne-Viru maakond 44001 Eesti;X-APPLE-RADIUS=500;X-TITLE=Kunda tee 8:geo:26.6881879,59.4465222
END:VEVENT
BEGIN:VEVENT
DTSTART;TZID=Europe/Helsinki:20231128T190000
DTEND;TZID=Europe/Helsinki:20231128T203000
DTSTAMP:20260419T165116
CREATED:20231107T104618Z
LAST-MODIFIED:20231107T104618Z
UID:54474-1701198000-1701203400@www.plmf.ee
SUMMARY:V Virumaa Muusikafestivali kontsert "Rahujõgi" Viru-Nigula Rahvamajas - Vahermägi / Remmel / Metsala
DESCRIPTION:V Virumaa Muusikafestival 17.11-10.12\nViru-Nigula Rahvamaja\n28.11 kell 19\nRAHUJÕGI\nJohanna Vahermägi (vokaal\, vioola\, klahvpill)\, \nTaavo Remmel (kontrabass)\, Mihkel Metsala (trompet)\nKavas: Johanna Vahermägi autorilooming\nPilet: 5€
URL:https://www.plmf.ee/kontsert/v-virumaa-muusikafestivali-kontsert-rahujogi-viru-nigula-rahvamajas-vahermagi-remmel-metsala/
LOCATION:Viru-Nigula Rahvamaja\, Kunda tee 8\, Viru-Nigula\, Lääne-Viru maakond\, 44001\, Eesti
CATEGORIES:Kontserdid,Virumaa Muusikafestival
ATTACH;FMTTYPE=image/png:https://www.plmf.ee/wp-content/uploads/2023/11/4.png
ORGANIZER;CN="Pille Lille Muusikute Fond":MAILTO:plmf@plmf.ee
GEO:59.4465222;26.6881879
X-APPLE-STRUCTURED-LOCATION;VALUE=URI;X-ADDRESS=Viru-Nigula Rahvamaja Kunda tee 8 Viru-Nigula Lääne-Viru maakond 44001 Eesti;X-APPLE-RADIUS=500;X-TITLE=Kunda tee 8:geo:26.6881879,59.4465222
END:VEVENT
BEGIN:VEVENT
DTSTART;TZID=Europe/Helsinki:20230412T190000
DTEND;TZID=Europe/Helsinki:20230412T203000
DTSTAMP:20260419T165116
CREATED:20230323T131456Z
LAST-MODIFIED:20230323T131456Z
UID:51609-1681326000-1681331400@www.plmf.ee
SUMMARY:"Kevadmeloodia" Viru-Nigula Rahvamajas - Ots / Randal
DESCRIPTION:Viru-Nigula valla kultuurikeskus ja Muusikute fond PLMF esitlevad\nViru-Nigula Rahvamaja\n12.04 kell 19\nKEVADMELOODIA\nNeeme Ots (trompet) ja Piret Randal (klaver)\nKavas: Charlier\, Kareva\, Parés\, Chopin jt.
URL:https://www.plmf.ee/kontsert/kevadmeloodia-viru-nigula-rahvamajas-ots-randal/
LOCATION:Viru-Nigula Rahvamaja\, Kunda tee 8\, Viru-Nigula\, Lääne-Viru maakond\, 44001\, Eesti
CATEGORIES:Kontserdid
ATTACH;FMTTYPE=image/png:https://www.plmf.ee/wp-content/uploads/2023/03/1-1-2.png
ORGANIZER;CN="Pille Lille Muusikute Fond":MAILTO:plmf@plmf.ee
GEO:59.4465222;26.6881879
X-APPLE-STRUCTURED-LOCATION;VALUE=URI;X-ADDRESS=Viru-Nigula Rahvamaja Kunda tee 8 Viru-Nigula Lääne-Viru maakond 44001 Eesti;X-APPLE-RADIUS=500;X-TITLE=Kunda tee 8:geo:26.6881879,59.4465222
END:VEVENT
BEGIN:VEVENT
DTSTART;TZID=Europe/Helsinki:20221204T170000
DTEND;TZID=Europe/Helsinki:20221204T183000
DTSTAMP:20260419T165116
CREATED:20221012T200818Z
LAST-MODIFIED:20221012T200818Z
UID:49835-1670173200-1670178600@www.plmf.ee
SUMMARY:IV Virumaa Muusikafestivali kontsert "Südamele ja hingele" - Vähi / Saal / Balakin / Paemurru
DESCRIPTION:Viru-Nigula Rahvamaja\n4.12 kell 17\nSÜDAMELE JA HINGELE\nKristina Vähi (sopran)\, Aare Saal (bariton)\,\nPavlo Balakin (bass)\, klaveril Piia Paemurru\nKavas: Mozart\, Rossini\, Schubert\, Caccini\, Franck\, Adam\, Ojakäär jt.\nPilet: 5€
URL:https://www.plmf.ee/kontsert/iv-virumaa-muusikafestivali-kontsert-sudamele-ja-hingele-vahi-saal-balakin-paemurru/
LOCATION:Viru-Nigula Rahvamaja\, Kunda tee 8\, Viru-Nigula\, Lääne-Viru maakond\, 44001\, Eesti
CATEGORIES:Festivalid,Kontserdid
ATTACH;FMTTYPE=image/png:https://www.plmf.ee/wp-content/uploads/2022/10/1-1-2.png
ORGANIZER;CN="Pille Lille Muusikute Fond":MAILTO:plmf@plmf.ee
GEO:59.4465222;26.6881879
X-APPLE-STRUCTURED-LOCATION;VALUE=URI;X-ADDRESS=Viru-Nigula Rahvamaja Kunda tee 8 Viru-Nigula Lääne-Viru maakond 44001 Eesti;X-APPLE-RADIUS=500;X-TITLE=Kunda tee 8:geo:26.6881879,59.4465222
END:VEVENT
BEGIN:VEVENT
DTSTART;TZID=Europe/Helsinki:20221112T170000
DTEND;TZID=Europe/Helsinki:20221112T183000
DTSTAMP:20260419T165116
CREATED:20221020T130542Z
LAST-MODIFIED:20221020T130542Z
UID:49984-1668272400-1668277800@www.plmf.ee
SUMMARY:Kontsert Viru-Nigula rahvamajas - Melnik / Lissijenko
DESCRIPTION:Viru-Nigula Kultuurikeskus ja Muusikute fond PLMF esitlevad\nViru-Nigula rahvamaja\n12.11 kell 17\nMarion Melnik (sopran) ja Kirill Lissijenko (klaver)\nKavas: Händel\, Mozart\, Schumann jt.\nPilet: 5€
URL:https://www.plmf.ee/kontsert/kontsert-viru-nigula-rahvamajas-melnik-lissijenko/
LOCATION:Viru-Nigula Rahvamaja\, Kunda tee 8\, Viru-Nigula\, Lääne-Viru maakond\, 44001\, Eesti
CATEGORIES:Kontserdid
ATTACH;FMTTYPE=image/png:https://www.plmf.ee/wp-content/uploads/2022/10/2-12.png
ORGANIZER;CN="Pille Lille Muusikute Fond":MAILTO:plmf@plmf.ee
GEO:59.4465222;26.6881879
X-APPLE-STRUCTURED-LOCATION;VALUE=URI;X-ADDRESS=Viru-Nigula Rahvamaja Kunda tee 8 Viru-Nigula Lääne-Viru maakond 44001 Eesti;X-APPLE-RADIUS=500;X-TITLE=Kunda tee 8:geo:26.6881879,59.4465222
END:VEVENT
BEGIN:VEVENT
DTSTART;TZID=Europe/Helsinki:20220420T180000
DTEND;TZID=Europe/Helsinki:20220420T190000
DTSTAMP:20260419T165116
CREATED:20220402T021757Z
LAST-MODIFIED:20220402T021809Z
UID:46572-1650477600-1650481200@www.plmf.ee
SUMMARY:Viru-Nigula Rahvamaja kontsert - Zibo / Langeproon
DESCRIPTION:Viru-Nigula Rahvamaja\n20.04 kell 18:00\nAkordioniduo Henri Zibo ja Mikk Langeproon\nKavas: Valgre\, Piazzolla\, Pärt jt.
URL:https://www.plmf.ee/kontsert/viru-nigula-rahvamaja-kontsert-zibo-langeproon/
LOCATION:Viru-Nigula Rahvamaja\, Kunda tee 8\, Viru-Nigula\, Lääne-Viru maakond\, 44001\, Eesti
CATEGORIES:Kontserdid
ATTACH;FMTTYPE=image/jpeg:https://www.plmf.ee/wp-content/uploads/2022/04/1.jpg
ORGANIZER;CN="Pille Lille Muusikute Fond":MAILTO:plmf@plmf.ee
GEO:59.4465222;26.6881879
X-APPLE-STRUCTURED-LOCATION;VALUE=URI;X-ADDRESS=Viru-Nigula Rahvamaja Kunda tee 8 Viru-Nigula Lääne-Viru maakond 44001 Eesti;X-APPLE-RADIUS=500;X-TITLE=Kunda tee 8:geo:26.6881879,59.4465222
END:VEVENT
END:VCALENDAR