BEGIN:VCALENDAR
VERSION:2.0
PRODID:-//Muusikute fond PLMF - ECPv6.15.17.1//NONSGML v1.0//EN
CALSCALE:GREGORIAN
METHOD:PUBLISH
X-ORIGINAL-URL:https://www.plmf.ee
X-WR-CALDESC:Events for Muusikute fond PLMF
REFRESH-INTERVAL;VALUE=DURATION:PT1H
X-Robots-Tag:noindex
X-PUBLISHED-TTL:PT1H
BEGIN:VTIMEZONE
TZID:Europe/Moscow
BEGIN:STANDARD
TZOFFSETFROM:+0300
TZOFFSETTO:+0300
TZNAME:MSK
DTSTART:20170101T000000
END:STANDARD
END:VTIMEZONE
BEGIN:VEVENT
DTSTART;TZID=Europe/Moscow:20180314T123000
DTEND;TZID=Europe/Moscow:20180314T133000
DTSTAMP:20260420T205726
CREATED:20180215T090650Z
LAST-MODIFIED:20180215T090930Z
UID:28554-1521030600-1521034200@www.plmf.ee
SUMMARY:Emakeelepäeva kontsert
DESCRIPTION:14. märts kell 12.30\nToila Gümnaasium\nOksana Sinkova (flööt)\nLea Leiten (klaver)\nKavas: H. Eller\, R. Kangro\, A. Pärt jt
URL:https://www.plmf.ee/kontsert/emakeelepaeva-kontsert/
LOCATION:Toila gümnaasium
CATEGORIES:Koolikontserdid
ATTACH;FMTTYPE=image/jpeg:https://plmf.ee/wp-content/uploads/2018/02/Oksana-Sinkova-2014.jpg
END:VEVENT
END:VCALENDAR