BEGIN:VCALENDAR
VERSION:2.0
PRODID:-//Muusikute fond PLMF - ECPv6.15.17.1//NONSGML v1.0//EN
CALSCALE:GREGORIAN
METHOD:PUBLISH
X-WR-CALNAME:Muusikute fond PLMF
X-ORIGINAL-URL:https://www.plmf.ee
X-WR-CALDESC:Events for Muusikute fond PLMF
REFRESH-INTERVAL;VALUE=DURATION:PT1H
X-Robots-Tag:noindex
X-PUBLISHED-TTL:PT1H
BEGIN:VTIMEZONE
TZID:Europe/Helsinki
BEGIN:DAYLIGHT
TZOFFSETFROM:+0200
TZOFFSETTO:+0300
TZNAME:EEST
DTSTART:20220327T010000
END:DAYLIGHT
BEGIN:STANDARD
TZOFFSETFROM:+0300
TZOFFSETTO:+0200
TZNAME:EET
DTSTART:20221030T010000
END:STANDARD
BEGIN:DAYLIGHT
TZOFFSETFROM:+0200
TZOFFSETTO:+0300
TZNAME:EEST
DTSTART:20230326T010000
END:DAYLIGHT
BEGIN:STANDARD
TZOFFSETFROM:+0300
TZOFFSETTO:+0200
TZNAME:EET
DTSTART:20231029T010000
END:STANDARD
BEGIN:DAYLIGHT
TZOFFSETFROM:+0200
TZOFFSETTO:+0300
TZNAME:EEST
DTSTART:20240331T010000
END:DAYLIGHT
BEGIN:STANDARD
TZOFFSETFROM:+0300
TZOFFSETTO:+0200
TZNAME:EET
DTSTART:20241027T010000
END:STANDARD
BEGIN:DAYLIGHT
TZOFFSETFROM:+0200
TZOFFSETTO:+0300
TZNAME:EEST
DTSTART:20250330T010000
END:DAYLIGHT
BEGIN:STANDARD
TZOFFSETFROM:+0300
TZOFFSETTO:+0200
TZNAME:EET
DTSTART:20251026T010000
END:STANDARD
END:VTIMEZONE
BEGIN:VTIMEZONE
TZID:Europe/Moscow
BEGIN:STANDARD
TZOFFSETFROM:+0300
TZOFFSETTO:+0300
TZNAME:MSK
DTSTART:20180101T000000
END:STANDARD
END:VTIMEZONE
BEGIN:VEVENT
DTSTART;TZID=Europe/Helsinki:20240414T170000
DTEND;TZID=Europe/Helsinki:20240414T183000
DTSTAMP:20260421T151027
CREATED:20240327T131750Z
LAST-MODIFIED:20240327T131750Z
UID:56401-1713114000-1713119400@www.plmf.ee
SUMMARY:Estonian Cello Ensemble’i kontsert Laekvere Rahvamajas - Lend / Lee / Järvi / Sarapuu
DESCRIPTION:Laekvere Rahvamaja ja Muusikute fond PLMF esitlevad\nLaekvere Rahvamaja \n14.04 kell 17 \nESTONIAN CELLO ENSEMBLE\nAndreas Lend\, Seulki Lee\, Marius Järvi\, Johannes Sarapuu\nKavas: Bach\, Wagner\, Popper jt.
URL:https://www.plmf.ee/kontsert/estonian-cello-ensemblei-kontsert-laekvere-rahvamajas-lend-lee-jarvi-sarapuu/
LOCATION:Laekvere Rahvamaja
CATEGORIES:Kontserdid
ATTACH;FMTTYPE=image/jpeg:https://plmf.ee/wp-content/uploads/2024/03/1-8.jpg
ORGANIZER;CN="Pille Lille Muusikute Fond":MAILTO:plmf@plmf.ee
END:VEVENT
BEGIN:VEVENT
DTSTART;TZID=Europe/Helsinki:20230923T130000
DTEND;TZID=Europe/Helsinki:20230923T143000
DTSTAMP:20260421T151027
CREATED:20230825T082645Z
LAST-MODIFIED:20230825T082645Z
UID:53653-1695474000-1695479400@www.plmf.ee
SUMMARY:Kontsert "Muusikaga sügisesse" Laekvere Rahvamajas - Kuulmann / Lend / Leiten
DESCRIPTION:Laekvere Rahvamaja\n23.09 kell 13\nMUUSIKAGA SÜGISESSE\nSigrid Kuulmann (viiul)\, Andreas Lend (tšello) ja Lea Leiten (klaver)\nKavas: Mendelssohn\, Mozart\, Tšaikovski jt.
URL:https://www.plmf.ee/kontsert/kontsert-muusikaga-sugisesse-laekvere-rahvamajas-kuulmann-lend-leiten/
LOCATION:Laekvere Rahvamaja
CATEGORIES:Kontserdid
ATTACH;FMTTYPE=image/png:https://plmf.ee/wp-content/uploads/2023/08/1.png
ORGANIZER;CN="Pille Lille Muusikute Fond":MAILTO:plmf@plmf.ee
END:VEVENT
BEGIN:VEVENT
DTSTART;TZID=Europe/Moscow:20190314T100000
DTEND;TZID=Europe/Moscow:20190314T104500
DTSTAMP:20260421T151027
CREATED:20190226T102951Z
LAST-MODIFIED:20190226T102951Z
UID:32369-1552557600-1552560300@www.plmf.ee
SUMMARY:Atlan Karp (bariton)\, Marko Martin (klaver)
DESCRIPTION:MUUSIKALINE EMAKEEL\n Atlan Karp (bariton)\,\nMarko Martin (klaver)\nKavas: Saar\, Eller\, Pärt jt\nVaba sissepääs \n 
URL:https://www.plmf.ee/kontsert/atlan-karp-bariton-marko-martin-klaver-3/
LOCATION:Laekvere Rahvamaja
CATEGORIES:Koolikontserdid
ORGANIZER;CN="Music Trust PLMF":MAILTO:plmf@plmf.ee
END:VEVENT
END:VCALENDAR