BEGIN:VCALENDAR
VERSION:2.0
PRODID:-//Muusikute fond PLMF - ECPv6.15.17.1//NONSGML v1.0//EN
CALSCALE:GREGORIAN
METHOD:PUBLISH
X-ORIGINAL-URL:https://www.plmf.ee
X-WR-CALDESC:Events for Muusikute fond PLMF
REFRESH-INTERVAL;VALUE=DURATION:PT1H
X-Robots-Tag:noindex
X-PUBLISHED-TTL:PT1H
BEGIN:VTIMEZONE
TZID:Europe/Moscow
BEGIN:STANDARD
TZOFFSETFROM:+0300
TZOFFSETTO:+0300
TZNAME:MSK
DTSTART:20170101T000000
END:STANDARD
END:VTIMEZONE
BEGIN:VEVENT
DTSTART;TZID=Europe/Moscow:20180513T160000
DTEND;TZID=Europe/Moscow:20180513T170000
DTSTAMP:20260422T040819
CREATED:20180326T110043Z
LAST-MODIFIED:20180430T074056Z
UID:28974-1526227200-1526230800@www.plmf.ee
SUMMARY:Maria Listra (sopran) Piia Paemurru (klaver)
DESCRIPTION: \n\n \n\n\n\nEmadepäeva kontsert\n13. mai kell 16.00\nKasepää Rahvamaja\nMaria Listra (sopran)\nPiia Paemurru (klaver)\nKavas: Mozart\, Härma\, Ehala jt\nVaba sissepääs
URL:https://www.plmf.ee/kontsert/maria-listra-sopran-piia-paemurru-klaver/
LOCATION:Kasepää Rahvamaja
CATEGORIES:Kontserdid
ATTACH;FMTTYPE=image/jpeg:https://www.plmf.ee/wp-content/uploads/2018/03/E-Plakat-Kasepää-Rahvamaja-13.05.jpg
END:VEVENT
END:VCALENDAR