BEGIN:VCALENDAR
VERSION:2.0
PRODID:-//Muusikute fond PLMF - ECPv6.15.17.1//NONSGML v1.0//EN
CALSCALE:GREGORIAN
METHOD:PUBLISH
X-WR-CALNAME:Muusikute fond PLMF
X-ORIGINAL-URL:https://www.plmf.ee
X-WR-CALDESC:Events for Muusikute fond PLMF
REFRESH-INTERVAL;VALUE=DURATION:PT1H
X-Robots-Tag:noindex
X-PUBLISHED-TTL:PT1H
BEGIN:VTIMEZONE
TZID:Europe/Helsinki
BEGIN:DAYLIGHT
TZOFFSETFROM:+0200
TZOFFSETTO:+0300
TZNAME:EEST
DTSTART:20200329T010000
END:DAYLIGHT
BEGIN:STANDARD
TZOFFSETFROM:+0300
TZOFFSETTO:+0200
TZNAME:EET
DTSTART:20201025T010000
END:STANDARD
BEGIN:DAYLIGHT
TZOFFSETFROM:+0200
TZOFFSETTO:+0300
TZNAME:EEST
DTSTART:20210328T010000
END:DAYLIGHT
BEGIN:STANDARD
TZOFFSETFROM:+0300
TZOFFSETTO:+0200
TZNAME:EET
DTSTART:20211031T010000
END:STANDARD
BEGIN:DAYLIGHT
TZOFFSETFROM:+0200
TZOFFSETTO:+0300
TZNAME:EEST
DTSTART:20220327T010000
END:DAYLIGHT
BEGIN:STANDARD
TZOFFSETFROM:+0300
TZOFFSETTO:+0200
TZNAME:EET
DTSTART:20221030T010000
END:STANDARD
BEGIN:DAYLIGHT
TZOFFSETFROM:+0200
TZOFFSETTO:+0300
TZNAME:EEST
DTSTART:20230326T010000
END:DAYLIGHT
BEGIN:STANDARD
TZOFFSETFROM:+0300
TZOFFSETTO:+0200
TZNAME:EET
DTSTART:20231029T010000
END:STANDARD
BEGIN:DAYLIGHT
TZOFFSETFROM:+0200
TZOFFSETTO:+0300
TZNAME:EEST
DTSTART:20240331T010000
END:DAYLIGHT
BEGIN:STANDARD
TZOFFSETFROM:+0300
TZOFFSETTO:+0200
TZNAME:EET
DTSTART:20241027T010000
END:STANDARD
BEGIN:DAYLIGHT
TZOFFSETFROM:+0200
TZOFFSETTO:+0300
TZNAME:EEST
DTSTART:20250330T010000
END:DAYLIGHT
BEGIN:STANDARD
TZOFFSETFROM:+0300
TZOFFSETTO:+0200
TZNAME:EET
DTSTART:20251026T010000
END:STANDARD
BEGIN:DAYLIGHT
TZOFFSETFROM:+0200
TZOFFSETTO:+0300
TZNAME:EEST
DTSTART:20260329T010000
END:DAYLIGHT
BEGIN:STANDARD
TZOFFSETFROM:+0300
TZOFFSETTO:+0200
TZNAME:EET
DTSTART:20261025T010000
END:STANDARD
END:VTIMEZONE
BEGIN:VEVENT
DTSTART;TZID=Europe/Helsinki:20250713T110000
DTEND;TZID=Europe/Helsinki:20250713T123000
DTSTAMP:20260422T130806
CREATED:20250516T105554Z
LAST-MODIFIED:20250516T105554Z
UID:61097-1752404400-1752409800@www.plmf.ee
SUMMARY:X Valga-Valka Seitsme Kiriku Suvemuusika Festivali kontsert "Keelpilli virtuoosid" 2025
DESCRIPTION:X VALGA-VALKA SEITSME KIRIKU SUVEMUUSIKA FESTIVAL 2025\nKarula kirik\n13.07 kell 11\nKEELPILLI VIRTUOOSID\nJohanna Vahermägi (vioola)\, Yevgeniy Kostrytskyy (viiull\, UA)\nKavas: Mozart\, Martinů\, Silvestrov\, Halvorsen jt.\nPiletid 7/5€ müügil PILETILEVIS ja Valga Kultuurikeskuses
URL:https://www.plmf.ee/kontsert/x-valga-valka-seitsme-kiriku-suvemuusika-festivali-kontsert-keelpilli-virtuoosid-2025/
LOCATION:Karula kirik\, Lüllemäe\, Valga maakond\, 68116
CATEGORIES:Kontserdid,Valga-Valka Seitsme Kiriku Muusikafestival
ATTACH;FMTTYPE=image/jpeg:https://plmf.ee/wp-content/uploads/2025/05/3-4.jpg
ORGANIZER;CN="Pille Lille Muusikute Fond":MAILTO:plmf@plmf.ee
GEO:57.7566584;26.3838606
X-APPLE-STRUCTURED-LOCATION;VALUE=URI;X-ADDRESS=Karula kirik Lüllemäe Valga maakond 68116;X-APPLE-RADIUS=500;X-TITLE=Lüllemäe:geo:26.3838606,57.7566584
END:VEVENT
BEGIN:VEVENT
DTSTART;TZID=Europe/Helsinki:20240714T110000
DTEND;TZID=Europe/Helsinki:20240714T123000
DTSTAMP:20260422T130806
CREATED:20240620T161455Z
LAST-MODIFIED:20240620T161522Z
UID:57617-1720954800-1720960200@www.plmf.ee
SUMMARY:Valga-Valka kirikute suvemuusika festivali kontsert - Veldi / Ots
DESCRIPTION:Karula kirik\n14.07 kl 11\nVirgo Veldi (saksofon)\, Jaan Ots (klaver)\nKavas: Schubert\, Eespere\, Piazzolla jt.\nPiletid: 7/5€ (ainult sularaha makse)
URL:https://www.plmf.ee/kontsert/valga-valka-kirikute-suvemuusika-festivali-kontsert-veldi-ots/
LOCATION:Karula kirik\, Lüllemäe\, Valga maakond\, 68116
CATEGORIES:Kontserdid,Valga-Valka Seitsme Kiriku Muusikafestival
ATTACH;FMTTYPE=image/jpeg:https://plmf.ee/wp-content/uploads/2024/06/VALGA-VALKA.jpg
ORGANIZER;CN="Pille Lille Muusikute Fond":MAILTO:plmf@plmf.ee
GEO:57.7566584;26.3838606
X-APPLE-STRUCTURED-LOCATION;VALUE=URI;X-ADDRESS=Karula kirik Lüllemäe Valga maakond 68116;X-APPLE-RADIUS=500;X-TITLE=Lüllemäe:geo:26.3838606,57.7566584
END:VEVENT
BEGIN:VEVENT
DTSTART;TZID=Europe/Helsinki:20230716T110000
DTEND;TZID=Europe/Helsinki:20230716T130000
DTSTAMP:20260422T130806
CREATED:20230620T102735Z
LAST-MODIFIED:20230620T102735Z
UID:52908-1689505200-1689512400@www.plmf.ee
SUMMARY:Valga-Valka Seitsme Kiriku Muusikafestivali 2023 kontsert "Viiulivirtuoosid"
DESCRIPTION:Karula kirik\n16.07 kell 11\nVIIULIVIRTUOOSID\nSigrid Kuulmann ja Kristina Kriit\nKavas: Bach\, Mägi\, Wieniawski jt.
URL:https://www.plmf.ee/kontsert/valga-valka-seitsme-kiriku-muusikafestivali-2023-kontsert-viiulivirtuoosid/
LOCATION:Karula kirik\, Lüllemäe\, Valga maakond\, 68116
CATEGORIES:Kontserdid,Valga-Valka Seitsme Kiriku Muusikafestival
ATTACH;FMTTYPE=image/png:https://plmf.ee/wp-content/uploads/2023/06/10-2.png
ORGANIZER;CN="Pille Lille Muusikute Fond":MAILTO:plmf@plmf.ee
GEO:57.7566584;26.3838606
X-APPLE-STRUCTURED-LOCATION;VALUE=URI;X-ADDRESS=Karula kirik Lüllemäe Valga maakond 68116;X-APPLE-RADIUS=500;X-TITLE=Lüllemäe:geo:26.3838606,57.7566584
END:VEVENT
BEGIN:VEVENT
DTSTART;TZID=Europe/Helsinki:20220717T110000
DTEND;TZID=Europe/Helsinki:20220717T123000
DTSTAMP:20260422T130806
CREATED:20220609T094709Z
LAST-MODIFIED:20220630T103526Z
UID:47705-1658055600-1658061000@www.plmf.ee
SUMMARY:Valga-Valka seitsme kiriku suvemuusika festivali kontsert "Muusikaline Rännak" - Ots / Langeproon
DESCRIPTION:Karula kirik\n17.07 kell 11\nNeeme Ots (trompet) ja Mikk Langeproon (akordion)\nKavas: Monti\, Brahms\, Mendez jt.\nPilet: 7/5€
URL:https://www.plmf.ee/kontsert/valga-valka-seitsme-kiriku-suvemuusika-festivali-kontsert-muusikaline-rannak-ots-langeproon-2/
LOCATION:Karula kirik\, Lüllemäe\, Valga maakond\, 68116
CATEGORIES:Festivalid,Kontserdid
ATTACH;FMTTYPE=image/png:https://plmf.ee/wp-content/uploads/2022/06/10.png
ORGANIZER;CN="Pille Lille Muusikute Fond":MAILTO:plmf@plmf.ee
GEO:57.7566584;26.3838606
X-APPLE-STRUCTURED-LOCATION;VALUE=URI;X-ADDRESS=Karula kirik Lüllemäe Valga maakond 68116;X-APPLE-RADIUS=500;X-TITLE=Lüllemäe:geo:26.3838606,57.7566584
END:VEVENT
BEGIN:VEVENT
DTSTART;TZID=Europe/Helsinki:20210718T110000
DTEND;TZID=Europe/Helsinki:20210718T120000
DTSTAMP:20260422T130806
CREATED:20210629T213415Z
LAST-MODIFIED:20210629T215922Z
UID:42460-1626606000-1626609600@www.plmf.ee
SUMMARY:Keelpillikvartett / Valga-Valka 7 kiriku suvemuusika festival
DESCRIPTION:Karula kirik\n18. juuli kell 11.00\nKeelpillikvartett koosseisus Kristina Kriit (viiul)\,\nMari-Liis Uibo (viiul)\, Johanna Vahermägi (vioola)\,\nAndreas Lend (tšello)\nKavas: Dvořák\, Schubert jt
URL:https://www.plmf.ee/kontsert/keelpillikvartett-valga-valka-7-kiriku-suvemuusika-festival/
LOCATION:Karula kirik\, Lüllemäe\, Valga maakond\, 68116
CATEGORIES:Festivalid
ATTACH;FMTTYPE=image/jpeg:https://plmf.ee/wp-content/uploads/2021/06/ValgaValka_2021_tunnuspilt_800x600.jpg
ORGANIZER;CN="Pille Lille Muusikute Fond":MAILTO:plmf@plmf.ee
GEO:57.7566584;26.3838606
X-APPLE-STRUCTURED-LOCATION;VALUE=URI;X-ADDRESS=Karula kirik Lüllemäe Valga maakond 68116;X-APPLE-RADIUS=500;X-TITLE=Lüllemäe:geo:26.3838606,57.7566584
END:VEVENT
END:VCALENDAR