BEGIN:VCALENDAR
VERSION:2.0
PRODID:-//Muusikute fond PLMF - ECPv6.15.17.1//NONSGML v1.0//EN
CALSCALE:GREGORIAN
METHOD:PUBLISH
X-WR-CALNAME:Muusikute fond PLMF
X-ORIGINAL-URL:https://www.plmf.ee
X-WR-CALDESC:Events for Muusikute fond PLMF
REFRESH-INTERVAL;VALUE=DURATION:PT1H
X-Robots-Tag:noindex
X-PUBLISHED-TTL:PT1H
BEGIN:VTIMEZONE
TZID:Europe/Helsinki
BEGIN:DAYLIGHT
TZOFFSETFROM:+0200
TZOFFSETTO:+0300
TZNAME:EEST
DTSTART:20210328T010000
END:DAYLIGHT
BEGIN:STANDARD
TZOFFSETFROM:+0300
TZOFFSETTO:+0200
TZNAME:EET
DTSTART:20211031T010000
END:STANDARD
BEGIN:DAYLIGHT
TZOFFSETFROM:+0200
TZOFFSETTO:+0300
TZNAME:EEST
DTSTART:20220327T010000
END:DAYLIGHT
BEGIN:STANDARD
TZOFFSETFROM:+0300
TZOFFSETTO:+0200
TZNAME:EET
DTSTART:20221030T010000
END:STANDARD
BEGIN:DAYLIGHT
TZOFFSETFROM:+0200
TZOFFSETTO:+0300
TZNAME:EEST
DTSTART:20230326T010000
END:DAYLIGHT
BEGIN:STANDARD
TZOFFSETFROM:+0300
TZOFFSETTO:+0200
TZNAME:EET
DTSTART:20231029T010000
END:STANDARD
BEGIN:DAYLIGHT
TZOFFSETFROM:+0200
TZOFFSETTO:+0300
TZNAME:EEST
DTSTART:20240331T010000
END:DAYLIGHT
BEGIN:STANDARD
TZOFFSETFROM:+0300
TZOFFSETTO:+0200
TZNAME:EET
DTSTART:20241027T010000
END:STANDARD
BEGIN:DAYLIGHT
TZOFFSETFROM:+0200
TZOFFSETTO:+0300
TZNAME:EEST
DTSTART:20250330T010000
END:DAYLIGHT
BEGIN:STANDARD
TZOFFSETFROM:+0300
TZOFFSETTO:+0200
TZNAME:EET
DTSTART:20251026T010000
END:STANDARD
BEGIN:DAYLIGHT
TZOFFSETFROM:+0200
TZOFFSETTO:+0300
TZNAME:EEST
DTSTART:20260329T010000
END:DAYLIGHT
BEGIN:STANDARD
TZOFFSETFROM:+0300
TZOFFSETTO:+0200
TZNAME:EET
DTSTART:20261025T010000
END:STANDARD
END:VTIMEZONE
BEGIN:VTIMEZONE
TZID:Europe/Moscow
BEGIN:STANDARD
TZOFFSETFROM:+0300
TZOFFSETTO:+0300
TZNAME:MSK
DTSTART:20160101T000000
END:STANDARD
END:VTIMEZONE
BEGIN:VEVENT
DTSTART;TZID=Europe/Helsinki:20250420T130000
DTEND;TZID=Europe/Helsinki:20250420T143000
DTSTAMP:20260421T163434
CREATED:20250408T134818Z
LAST-MODIFIED:20250408T135433Z
UID:60657-1745154000-1745159400@www.plmf.ee
SUMMARY:Muusikute fondi PLMF kontsert Kambja Kultuurikeskuses - Kriit / Fomina
DESCRIPTION:Kambja Kultuur ja Sport ning Muusikute fond PLMF esitlevad\nKambja Kultuurikeskus\n20.04 kl 13\nKristina Kriit (viiul)\, Jelena Fomina (klaver)\nKavas: Händel\, Kreisler\, Bruch jt.\nPilet: 5€
URL:https://www.plmf.ee/kontsert/muusikute-fondi-plmf-kontsert-kambja-kultuurikeskuses-kriit-fomina/
LOCATION:Kambja Kultuurikeskus\, Kesk 12\, Kambja\, Tartumaa\, 62034\, Estonia
CATEGORIES:Kontserdid
ATTACH;FMTTYPE=image/jpeg:https://www.plmf.ee/wp-content/uploads/2025/04/1.jpg
ORGANIZER;CN="Pille Lille Muusikute Fond":MAILTO:plmf@plmf.ee
GEO:58.2361697;26.7024196
X-APPLE-STRUCTURED-LOCATION;VALUE=URI;X-ADDRESS=Kambja Kultuurikeskus Kesk 12 Kambja Tartumaa 62034 Estonia;X-APPLE-RADIUS=500;X-TITLE=Kesk 12:geo:26.7024196,58.2361697
END:VEVENT
BEGIN:VEVENT
DTSTART;TZID=Europe/Helsinki:20240914T160000
DTEND;TZID=Europe/Helsinki:20240914T170000
DTSTAMP:20260421T163434
CREATED:20240801T082336Z
LAST-MODIFIED:20240801T082336Z
UID:58298-1726329600-1726333200@www.plmf.ee
SUMMARY:Kontsert Kambja Kultuurikeskuses - Veldi / Laur / Jürgenson
DESCRIPTION:Kambja Kultuur ja Sport \nKambja Kultuurikeskus\n14.09 kl 16\nVirgo Veldi (saksofonid)\, Rene Laur (saksofonid)\,\nJoonatan Jürgenson (klaver)\nKavas: Poulenc\, Šostakovitš\, Singelée jt.\nPilet: 5€
URL:https://www.plmf.ee/kontsert/kontsert-kambja-kultuurikeskuses-veldi-laur-jurgenson/
LOCATION:Kambja Kultuurikeskus\, Kesk 12\, Kambja\, Tartumaa\, 62034\, Estonia
CATEGORIES:Kontserdid
ATTACH;FMTTYPE=image/jpeg:https://www.plmf.ee/wp-content/uploads/2024/08/1.jpg
ORGANIZER;CN="Pille Lille Muusikute Fond":MAILTO:plmf@plmf.ee
GEO:58.2361697;26.7024196
X-APPLE-STRUCTURED-LOCATION;VALUE=URI;X-ADDRESS=Kambja Kultuurikeskus Kesk 12 Kambja Tartumaa 62034 Estonia;X-APPLE-RADIUS=500;X-TITLE=Kesk 12:geo:26.7024196,58.2361697
END:VEVENT
BEGIN:VEVENT
DTSTART;TZID=Europe/Helsinki:20240404T180000
DTEND;TZID=Europe/Helsinki:20240404T193000
DTSTAMP:20260421T163434
CREATED:20240307T135600Z
LAST-MODIFIED:20240307T135600Z
UID:56199-1712253600-1712259000@www.plmf.ee
SUMMARY:Kontsert Kambja Kultuurikeskuses - Veldi / Randvere
DESCRIPTION:Kambja Kultuur ja Sport ning Muusikute fond PLMF esitlevad\nKambja Kultuurikeskus\n4.04 kell 18\nVirgo Veldi saksofon\, Johan Randvere klaver\nKavas: Schubert\, Desenclos\, Sibelius\, Piazzolla jt.\nPiletid: 7/5€
URL:https://www.plmf.ee/kontsert/kontsert-kambja-kultuurikeskuses-veldi-randvere/
LOCATION:Kambja Kultuurikeskus\, Kesk 12\, Kambja\, Tartumaa\, 62034\, Estonia
CATEGORIES:Kontserdid
ATTACH;FMTTYPE=image/jpeg:https://www.plmf.ee/wp-content/uploads/2024/03/1-2.jpg
ORGANIZER;CN="Pille Lille Muusikute Fond":MAILTO:plmf@plmf.ee
GEO:58.2361697;26.7024196
X-APPLE-STRUCTURED-LOCATION;VALUE=URI;X-ADDRESS=Kambja Kultuurikeskus Kesk 12 Kambja Tartumaa 62034 Estonia;X-APPLE-RADIUS=500;X-TITLE=Kesk 12:geo:26.7024196,58.2361697
END:VEVENT
BEGIN:VEVENT
DTSTART;TZID=Europe/Helsinki:20231119T140000
DTEND;TZID=Europe/Helsinki:20231119T153000
DTSTAMP:20260421T163434
CREATED:20231011T114913Z
LAST-MODIFIED:20231011T114913Z
UID:54037-1700402400-1700407800@www.plmf.ee
SUMMARY:Estonian Cello Ensemble'i kontsert Kambja Kultuurikeskuses - Lend / Järvi / Sarapuu / Metspalu
DESCRIPTION:Muusikute fond PLMF ja Kambja Kultuurikeskus esitlevad\nKambja Kultuurikeskus\n19.11 kell 14\nESTONIAN CELLO ENSEMBLE\nAndreas Lend\, Marius Järvi\, Johannes Sarapuu\, Andres Metspalu\nKavas: Bach\, Pärt\, Sollima jt.\nPiletid: 5/4€
URL:https://www.plmf.ee/kontsert/estonian-cello-ensemblei-kontsert-kambja-kultuurikeskuses-lend-jarvi-sarapuu-metspalu/
LOCATION:Kambja Kultuurikeskus\, Kesk 12\, Kambja\, Tartumaa\, 62034\, Estonia
CATEGORIES:Kontserdid
ATTACH;FMTTYPE=image/png:https://www.plmf.ee/wp-content/uploads/2023/10/1-4.png
ORGANIZER;CN="Pille Lille Muusikute Fond":MAILTO:plmf@plmf.ee
GEO:58.2361697;26.7024196
X-APPLE-STRUCTURED-LOCATION;VALUE=URI;X-ADDRESS=Kambja Kultuurikeskus Kesk 12 Kambja Tartumaa 62034 Estonia;X-APPLE-RADIUS=500;X-TITLE=Kesk 12:geo:26.7024196,58.2361697
END:VEVENT
BEGIN:VEVENT
DTSTART;TZID=Europe/Helsinki:20221206T180000
DTEND;TZID=Europe/Helsinki:20221206T193000
DTSTAMP:20260421T163434
CREATED:20221024T153258Z
LAST-MODIFIED:20221024T153258Z
UID:50096-1670349600-1670355000@www.plmf.ee
SUMMARY:Kontsert Kambja kultuurikeskuses - Lend / Sarapuu
DESCRIPTION:Kambja kultuurikeskus ja Muusikute fond PLMF esitlevad\nKambja Kultuurikeskus\n06.12 kell 18\nTšelloduo Andreas Lend ja Johannes Sarapuu\nKavas: Monteverdi\, Boccherini\, Saint-Saëns jt.
URL:https://www.plmf.ee/kontsert/kontsert-kambja-kultuurikeskuses-lend-sarapuu/
LOCATION:Kambja Kultuurikeskus\, Kesk 12\, Kambja\, Tartumaa\, 62034\, Estonia
CATEGORIES:Kontserdid
ATTACH;FMTTYPE=image/png:https://www.plmf.ee/wp-content/uploads/2022/10/1-1-6.png
ORGANIZER;CN="Pille Lille Muusikute Fond":MAILTO:plmf@plmf.ee
GEO:58.2361697;26.7024196
X-APPLE-STRUCTURED-LOCATION;VALUE=URI;X-ADDRESS=Kambja Kultuurikeskus Kesk 12 Kambja Tartumaa 62034 Estonia;X-APPLE-RADIUS=500;X-TITLE=Kesk 12:geo:26.7024196,58.2361697
END:VEVENT
BEGIN:VEVENT
DTSTART;TZID=Europe/Helsinki:20220819T190000
DTEND;TZID=Europe/Helsinki:20220819T203000
DTSTAMP:20260421T163434
CREATED:20220804T103120Z
LAST-MODIFIED:20220804T103120Z
UID:48931-1660935600-1660941000@www.plmf.ee
SUMMARY:Kontsert Kambja Kultuurikeskuses - Langeproon / Zibo
DESCRIPTION:Muusikute fond PLMF ja Kambja Kultuurikeskus esitlevad\nKambja Kultuurikeskus\n19.08 kell 19\nAkordioniduo Mikk Langeproon ja Henri Zibo\nKavas: Pärt\, Valgre\, Langeproon jt.
URL:https://www.plmf.ee/kontsert/kontsert-kambja-kultuurikeskuses-langeproon-zibo/
LOCATION:Kambja Kultuurikeskus\, Kesk 12\, Kambja\, Tartumaa\, 62034\, Estonia
CATEGORIES:Kontserdid
ATTACH;FMTTYPE=image/png:https://www.plmf.ee/wp-content/uploads/2022/08/1-1.png
ORGANIZER;CN="Pille Lille Muusikute Fond":MAILTO:plmf@plmf.ee
GEO:58.2361697;26.7024196
X-APPLE-STRUCTURED-LOCATION;VALUE=URI;X-ADDRESS=Kambja Kultuurikeskus Kesk 12 Kambja Tartumaa 62034 Estonia;X-APPLE-RADIUS=500;X-TITLE=Kesk 12:geo:26.7024196,58.2361697
END:VEVENT
BEGIN:VEVENT
DTSTART;TZID=Europe/Moscow:20180215T180000
DTEND;TZID=Europe/Moscow:20180215T180000
DTSTAMP:20260421T163434
CREATED:20180117T120542Z
LAST-MODIFIED:20180126T145838Z
UID:28233-1518717600-1518717600@www.plmf.ee
SUMMARY:Vahvad variatsioonid tšellole ja akordionile
DESCRIPTION:15. veebruar kell 18.00\nKambja Kultuurikeskus\nAndreas Lend (tšello)\nAllan Jakobi (akordion)\nKavas: Sibelius\, Tšaikovski\, Villa-Lobos jt\nVaba sissepääs
URL:https://www.plmf.ee/kontsert/vahvad-variatsioonid-tsellole-ja-akordionile/
LOCATION:Kambja Kultuurikeskus\, Kesk 12\, Kambja\, Tartumaa\, 62034\, Estonia
CATEGORIES:Kontserdid
ATTACH;FMTTYPE=image/jpeg:https://www.plmf.ee/wp-content/uploads/2018/01/Plakat_Kambja_Vahvad_Variatsioonid_1502_veebi-2.jpg
GEO:58.2361697;26.7024196
X-APPLE-STRUCTURED-LOCATION;VALUE=URI;X-ADDRESS=Kambja Kultuurikeskus Kesk 12 Kambja Tartumaa 62034 Estonia;X-APPLE-RADIUS=500;X-TITLE=Kesk 12:geo:26.7024196,58.2361697
END:VEVENT
BEGIN:VEVENT
DTSTART;TZID=Europe/Moscow:20171228T180000
DTEND;TZID=Europe/Moscow:20171228T180000
DTSTAMP:20260421T163434
CREATED:20171020T130037Z
LAST-MODIFIED:20171218T090913Z
UID:26525-1514484000-1514484000@www.plmf.ee
SUMMARY:Pidulikult aastavahetusse
DESCRIPTION: \nPidulikult aastavahetusse\n\n\n28. detsember kell 18.00\nKambja Kultuurikeskus \nAkordionioduo Henri Zibo ja Mikk Langeproon\nKavas: Vivaldi\, Bach\, Boellmann jt \nVaba sissepääs
URL:https://www.plmf.ee/kontsert/pidulikult-aastavahetusse/
LOCATION:Kambja Kultuurikeskus\, Kesk 12\, Kambja\, Tartumaa\, 62034\, Estonia
CATEGORIES:Kontserdid
ATTACH;FMTTYPE=image/jpeg:https://www.plmf.ee/wp-content/uploads/2017/10/28.12-e1508504054682.jpg
ORGANIZER;CN="Music Trust PLMF":MAILTO:plmf@plmf.ee
GEO:58.2361697;26.7024196
X-APPLE-STRUCTURED-LOCATION;VALUE=URI;X-ADDRESS=Kambja Kultuurikeskus Kesk 12 Kambja Tartumaa 62034 Estonia;X-APPLE-RADIUS=500;X-TITLE=Kesk 12:geo:26.7024196,58.2361697
END:VEVENT
END:VCALENDAR