BEGIN:VCALENDAR
VERSION:2.0
PRODID:-//Muusikute fond PLMF - ECPv6.15.17.1//NONSGML v1.0//EN
CALSCALE:GREGORIAN
METHOD:PUBLISH
X-WR-CALNAME:Muusikute fond PLMF
X-ORIGINAL-URL:https://www.plmf.ee
X-WR-CALDESC:Events for Muusikute fond PLMF
REFRESH-INTERVAL;VALUE=DURATION:PT1H
X-Robots-Tag:noindex
X-PUBLISHED-TTL:PT1H
BEGIN:VTIMEZONE
TZID:Europe/Helsinki
BEGIN:DAYLIGHT
TZOFFSETFROM:+0200
TZOFFSETTO:+0300
TZNAME:EEST
DTSTART:20220327T010000
END:DAYLIGHT
BEGIN:STANDARD
TZOFFSETFROM:+0300
TZOFFSETTO:+0200
TZNAME:EET
DTSTART:20221030T010000
END:STANDARD
BEGIN:DAYLIGHT
TZOFFSETFROM:+0200
TZOFFSETTO:+0300
TZNAME:EEST
DTSTART:20230326T010000
END:DAYLIGHT
BEGIN:STANDARD
TZOFFSETFROM:+0300
TZOFFSETTO:+0200
TZNAME:EET
DTSTART:20231029T010000
END:STANDARD
BEGIN:DAYLIGHT
TZOFFSETFROM:+0200
TZOFFSETTO:+0300
TZNAME:EEST
DTSTART:20240331T010000
END:DAYLIGHT
BEGIN:STANDARD
TZOFFSETFROM:+0300
TZOFFSETTO:+0200
TZNAME:EET
DTSTART:20241027T010000
END:STANDARD
END:VTIMEZONE
BEGIN:VTIMEZONE
TZID:Europe/Moscow
BEGIN:STANDARD
TZOFFSETFROM:+0300
TZOFFSETTO:+0300
TZNAME:MSK
DTSTART:20170101T000000
END:STANDARD
END:VTIMEZONE
BEGIN:VEVENT
DTSTART;TZID=Europe/Helsinki:20230511T190000
DTEND;TZID=Europe/Helsinki:20230511T203000
DTSTAMP:20260422T120300
CREATED:20230323T132459Z
LAST-MODIFIED:20230323T132459Z
UID:51628-1683831600-1683837000@www.plmf.ee
SUMMARY:Emadepäeva kontsert Elva Kultuurikeskuses - Vähi / Saal / Paemurru
DESCRIPTION:Elva vald\, Elva Kultuurikeskus ja Muusikute fond PLMF esitlevad\nElva Kultuurikeskus\nEMADEPÄEVA KONTSERT\n11.05 kell 19\nKristina Vähi (sopran)\, Aare Saal (bariton) ja Piia Paemurru (klaver)\nKavas: Mozart\, Rossini\, Kálmán\, Lehar\, Di Capua\, Gastaldoni\, Bixio\, Tosti jt.
URL:https://www.plmf.ee/kontsert/emadepaeva-kontsert-elva-kultuurikeskuses-vahi-saal-paemurru/
LOCATION:Elva Kultuurikeskus\, Kesk 30\, Elva\, Tartu maakond\, 61507
CATEGORIES:Kontserdid
ATTACH;FMTTYPE=image/png:https://plmf.ee/wp-content/uploads/2023/03/1-6.png
ORGANIZER;CN="Pille Lille Muusikute Fond":MAILTO:plmf@plmf.ee
GEO:58.223607;26.4166416
X-APPLE-STRUCTURED-LOCATION;VALUE=URI;X-ADDRESS=Elva Kultuurikeskus Kesk 30 Elva Tartu maakond 61507;X-APPLE-RADIUS=500;X-TITLE=Kesk 30:geo:26.4166416,58.223607
END:VEVENT
BEGIN:VEVENT
DTSTART;TZID=Europe/Moscow:20180316T180000
DTEND;TZID=Europe/Moscow:20180316T180000
DTSTAMP:20260422T120300
CREATED:20180117T131057Z
LAST-MODIFIED:20180315T194603Z
UID:28246-1521223200-1521223200@www.plmf.ee
SUMMARY:Hingemuusika Elvas
DESCRIPTION:16. märts kell 18.00\nElva Kultuurikeskus\nPille Lill (sopran)\nAtlan Karp (bariton)\nTiina Kärblane (klaver)\nKavas: Händel\, Tamberg\, Puccini jt \nVaba sissepääs
URL:https://www.plmf.ee/kontsert/hingemuusika-elvas/
LOCATION:Elva Kultuurikeskus\, Kesk 30\, Elva\, Tartu maakond\, 61507
CATEGORIES:Kontserdid
ATTACH;FMTTYPE=image/jpeg:https://plmf.ee/wp-content/uploads/2017/11/pille.jpg
GEO:58.223607;26.4166416
X-APPLE-STRUCTURED-LOCATION;VALUE=URI;X-ADDRESS=Elva Kultuurikeskus Kesk 30 Elva Tartu maakond 61507;X-APPLE-RADIUS=500;X-TITLE=Kesk 30:geo:26.4166416,58.223607
END:VEVENT
END:VCALENDAR