BEGIN:VCALENDAR
VERSION:2.0
PRODID:-//Muusikute fond PLMF - ECPv6.15.17.1//NONSGML v1.0//EN
CALSCALE:GREGORIAN
METHOD:PUBLISH
X-WR-CALNAME:Muusikute fond PLMF
X-ORIGINAL-URL:https://www.plmf.ee
X-WR-CALDESC:Events for Muusikute fond PLMF
REFRESH-INTERVAL;VALUE=DURATION:PT1H
X-Robots-Tag:noindex
X-PUBLISHED-TTL:PT1H
BEGIN:VTIMEZONE
TZID:Europe/Helsinki
BEGIN:DAYLIGHT
TZOFFSETFROM:+0200
TZOFFSETTO:+0300
TZNAME:EEST
DTSTART:20190331T010000
END:DAYLIGHT
BEGIN:STANDARD
TZOFFSETFROM:+0300
TZOFFSETTO:+0200
TZNAME:EET
DTSTART:20191027T010000
END:STANDARD
BEGIN:DAYLIGHT
TZOFFSETFROM:+0200
TZOFFSETTO:+0300
TZNAME:EEST
DTSTART:20200329T010000
END:DAYLIGHT
BEGIN:STANDARD
TZOFFSETFROM:+0300
TZOFFSETTO:+0200
TZNAME:EET
DTSTART:20201025T010000
END:STANDARD
BEGIN:DAYLIGHT
TZOFFSETFROM:+0200
TZOFFSETTO:+0300
TZNAME:EEST
DTSTART:20210328T010000
END:DAYLIGHT
BEGIN:STANDARD
TZOFFSETFROM:+0300
TZOFFSETTO:+0200
TZNAME:EET
DTSTART:20211031T010000
END:STANDARD
BEGIN:DAYLIGHT
TZOFFSETFROM:+0200
TZOFFSETTO:+0300
TZNAME:EEST
DTSTART:20220327T010000
END:DAYLIGHT
BEGIN:STANDARD
TZOFFSETFROM:+0300
TZOFFSETTO:+0200
TZNAME:EET
DTSTART:20221030T010000
END:STANDARD
END:VTIMEZONE
BEGIN:VEVENT
DTSTART;TZID=Europe/Helsinki:20210620T180000
DTEND;TZID=Europe/Helsinki:20210620T190000
DTSTAMP:20260423T024447
CREATED:20210430T130158Z
LAST-MODIFIED:20210513T142424Z
UID:41618-1624212000-1624215600@www.plmf.ee
SUMMARY:Hingemuusika / Sinkova & Jürgens
DESCRIPTION:EELK Rõngu kogudus esitleb:\nRõngu Mihkli Kirik\n20. juuni kell 18.00\nHINGEMUUSIKA\nOksana Sinkova (flööt) ja Liis Jürgens (harf)\nKavas: Bach\, Piazzolla\, Kangro\, Tüür\n\nVaba annetus koguduse heaks!
URL:https://www.plmf.ee/kontsert/hingemuusika-sinkova-jurgens-2/
LOCATION:Rõngu Mihkli kirik\, Tehase tn 1\, Rõngu alev\, Tartumaa\, 61001
CATEGORIES:Kontserdid
ATTACH;FMTTYPE=image/jpeg:https://plmf.ee/wp-content/uploads/2021/04/20_06_21_R6ngu_Sinkova_Jyrgens_tunnuspilt_800x600.jpg
ORGANIZER;CN="Pille Lille Muusikute Fond":MAILTO:plmf@plmf.ee
GEO:58.1438474;26.2418797
X-APPLE-STRUCTURED-LOCATION;VALUE=URI;X-ADDRESS=Rõngu Mihkli kirik Tehase tn 1 Rõngu alev Tartumaa 61001;X-APPLE-RADIUS=500;X-TITLE=Tehase tn 1:geo:26.2418797,58.1438474
END:VEVENT
BEGIN:VEVENT
DTSTART;TZID=Europe/Helsinki:20210620T123000
DTEND;TZID=Europe/Helsinki:20210620T133000
DTSTAMP:20260423T024447
CREATED:20210430T125702Z
LAST-MODIFIED:20210513T142512Z
UID:41609-1624192200-1624195800@www.plmf.ee
SUMMARY:Hingemuusika / Sinkova & Jürgens
DESCRIPTION:EELK Vändra Martini kogudus esitleb:\nVändra Martini Kirik\n20. juuni kell 12.30\nHINGEMUUSIKA\nOksana Sinkova (flööt) ja Liis Jürgens (harf)\nKavas: Bach\, Piazzolla\, Kangro\, Tüür\n\nVaba annetus koguduse heaks!
URL:https://www.plmf.ee/kontsert/hingemuusika-sinkova-jurgens/
LOCATION:Vändra Martini kirik\, Pikk 32\, Vändra alev\, Põhja-Pärnumaa vald\, Pärnu maakond\, Eesti
CATEGORIES:Kontserdid
ATTACH;FMTTYPE=image/jpeg:https://plmf.ee/wp-content/uploads/2021/04/20_06_21_V2ndra_Sinkova_Jyrgens_tunnuspilt_800x600.jpg
ORGANIZER;CN="Pille Lille Muusikute Fond":MAILTO:plmf@plmf.ee
GEO:58.6503468;25.0411944
X-APPLE-STRUCTURED-LOCATION;VALUE=URI;X-ADDRESS=Vändra Martini kirik Pikk 32 Vändra alev Põhja-Pärnumaa vald Pärnu maakond Eesti;X-APPLE-RADIUS=500;X-TITLE=Pikk 32:geo:25.0411944,58.6503468
END:VEVENT
BEGIN:VEVENT
DTSTART;TZID=Europe/Helsinki:20210619T180000
DTEND;TZID=Europe/Helsinki:20210619T190000
DTSTAMP:20260423T024447
CREATED:20210430T125224Z
LAST-MODIFIED:20210513T142559Z
UID:41600-1624125600-1624129200@www.plmf.ee
SUMMARY:Hingemuusika / Balakin & Kärblane
DESCRIPTION:Tartu Linnavalitsus esitleb:\nTartu Linnamuuseum\n19. juuni kell 18\nHINGEMUUSIKA\nPavlo Balakin (bass) ja Tiina Kärblane (klaver)\n\nKavas: Händel\, Bach\, Tšaikovski jt
URL:https://www.plmf.ee/kontsert/hingemuusika-balakin-karblane-2/
LOCATION:Tartu Linnamuuseum\, Narva maantee 23\, Tartu\, 51009\, Eesti
CATEGORIES:Kontserdid
ATTACH;FMTTYPE=image/jpeg:https://plmf.ee/wp-content/uploads/2021/04/19_06_21_Tartu_linnamuuseum_Hingemuusika_Balakin_K2rblane_tunnuspilt_800x600.jpg
ORGANIZER;CN="Pille Lille Muusikute Fond":MAILTO:plmf@plmf.ee
GEO:58.381972;26.7289443
X-APPLE-STRUCTURED-LOCATION;VALUE=URI;X-ADDRESS=Tartu Linnamuuseum Narva maantee 23 Tartu 51009 Eesti;X-APPLE-RADIUS=500;X-TITLE=Narva maantee 23:geo:26.7289443,58.381972
END:VEVENT
BEGIN:VEVENT
DTSTART;TZID=Europe/Helsinki:20210615T150000
DTEND;TZID=Europe/Helsinki:20210615T160000
DTSTAMP:20260423T024447
CREATED:20210526T110238Z
LAST-MODIFIED:20210526T110238Z
UID:41919-1623769200-1623772800@www.plmf.ee
SUMMARY:Hingemuusika / Rakvere Muusikakool
DESCRIPTION:HINGEMUUSIKA\nRootsi-Mihkli kirik\n15. juuni kell 15.00\nRakvere Muusikakooli õpilased\nKavas: Händel\, Kuhlau\, Grieg\, Tšaikovski\, Schumann\, Mägi jt\n\nVaba sissepääs!
URL:https://www.plmf.ee/kontsert/hingemuusika-rakvere-muusikakool/
LOCATION:Rootsi-Mihkli kirik\, Rüütli 9\, Tallinn\, Eesti
CATEGORIES:Kontserdid
ATTACH;FMTTYPE=image/jpeg:https://plmf.ee/wp-content/uploads/2021/05/Rootsi_Mihkli_Kirik_Hingemuusika_tunnuspilt_800x600.jpg
ORGANIZER;CN="Pille Lille Muusikute Fond":MAILTO:plmf@plmf.ee
GEO:59.4349799;24.7422417
X-APPLE-STRUCTURED-LOCATION;VALUE=URI;X-ADDRESS=Rootsi-Mihkli kirik Rüütli 9 Tallinn Eesti;X-APPLE-RADIUS=500;X-TITLE=Rüütli 9:geo:24.7422417,59.4349799
END:VEVENT
BEGIN:VEVENT
DTSTART;TZID=Europe/Helsinki:20210614T120000
DTEND;TZID=Europe/Helsinki:20210614T130000
DTSTAMP:20260423T024447
CREATED:20210608T094359Z
LAST-MODIFIED:20210608T094359Z
UID:42165-1623672000-1623675600@www.plmf.ee
SUMMARY:Juuniküüditamise 80. aastapäevale pühendatud kontsert / Tallinna Trompetiansambel
DESCRIPTION:Juuniküüditamise 80. aastapäevale pühendatud kontsert  \nJõhvi Küüditamisohvrite mälestussamba juures\n14. juuni kell 12.00\nTallinna Trompetiansambel\nKavas: Sarapik\, Eespere\, Mendelssohn\, Bodin de Boismortier jt
URL:https://www.plmf.ee/kontsert/juunikuuditamise-80-aastapaevale-puhendatud-kontsert-tallinna-trompetiansambel/
LOCATION:Jõhvi raudteejaam\, Jõhvi\, Ida-Viru maakond\, 41533
CATEGORIES:Kontserdid
ATTACH;FMTTYPE=image/jpeg:https://plmf.ee/wp-content/uploads/2021/06/14_06_21_J6hvi_Tallinna_Trompetiansambel_tunnuspilt_800x600.jpg
ORGANIZER;CN="Pille Lille Muusikute Fond":MAILTO:plmf@plmf.ee
GEO:59.353455;27.4001208
END:VEVENT
BEGIN:VEVENT
DTSTART;TZID=Europe/Helsinki:20210613T130000
DTEND;TZID=Europe/Helsinki:20210613T140000
DTSTAMP:20260423T024447
CREATED:20210608T092235Z
LAST-MODIFIED:20210608T092235Z
UID:42139-1623589200-1623592800@www.plmf.ee
SUMMARY:Helimaalingud / Kuulmann\, Sinkova\, Kärblane
DESCRIPTION:Helimaalingud\nPuka Kogukonna saal\n13. juuni kell 13.00\nSigrid Kuulmann (viiul)\, Oksana Sinkova (flööt)\, Tiina Kärblane (klaver)\nKavas: Tšaikovski. Šostakovitš\, Kreisler
URL:https://www.plmf.ee/kontsert/helimaalingud-kuulmann-sinkova-karblane/
LOCATION:Puka Kogukonna saal\, Kooli 6\, Puka\, Vallga maakond\, 67217\, Eesti
CATEGORIES:Kontserdid
ATTACH;FMTTYPE=image/jpeg:https://plmf.ee/wp-content/uploads/2021/06/13_06_21_Puka_Kuulmann_Sinkova_tunnuspilt_800x600.jpg
ORGANIZER;CN="Pille Lille Muusikute Fond":MAILTO:plmf@plmf.ee
GEO:58.0521461;26.2277293
X-APPLE-STRUCTURED-LOCATION;VALUE=URI;X-ADDRESS=Puka Kogukonna saal Kooli 6 Puka Vallga maakond 67217 Eesti;X-APPLE-RADIUS=500;X-TITLE=Kooli 6:geo:26.2277293,58.0521461
END:VEVENT
BEGIN:VEVENT
DTSTART;TZID=Europe/Helsinki:20210610T140000
DTEND;TZID=Europe/Helsinki:20210610T150000
DTSTAMP:20260423T024447
CREATED:20210405T112119Z
LAST-MODIFIED:20210430T124729Z
UID:41460-1623333600-1623337200@www.plmf.ee
SUMMARY:Konkurss Raplamaa Noor Muusik
DESCRIPTION:Rapla Kultuurikeskus\n10. juuni kell 14.00\nKonkurss Raplamaa Noor Muusik 2021\nosalevad Raplamaa muusikakoolide õpilased\nRapla\, Märjamaa\, Kohila\, Kehtna\, Kaiu ja Juuru muusikakoolidest
URL:https://www.plmf.ee/kontsert/konkurss-raplamaa-noor-muusik/
LOCATION:Rapla Kultuurikeskus\, Tallinna mnt 17a\, Rapla
CATEGORIES:Projektid,Võistlused
ATTACH;FMTTYPE=image/jpeg:https://plmf.ee/wp-content/uploads/2021/04/13_05_21_Raplamaa_NM21_konkurss_tunnuspilt_800x600.jpg
ORGANIZER;CN="Pille Lille Muusikute Fond":MAILTO:plmf@plmf.ee
END:VEVENT
BEGIN:VEVENT
DTSTART;TZID=Europe/Helsinki:20210608T150000
DTEND;TZID=Europe/Helsinki:20210608T160000
DTSTAMP:20260423T024447
CREATED:20210526T105323Z
LAST-MODIFIED:20210526T105323Z
UID:41902-1623164400-1623168000@www.plmf.ee
SUMMARY:Hingemuusika / Tallinna Muusikakeskkool
DESCRIPTION:HINGEMUUSIKA\nRootsi-Mihkli kirik\n8. juuni kell 15.00\nTMKK keelpilliosakonna õpilased\nKavas: Bach\, Sibelius\, Eller\, Mägi\, jt\nVaba sissepääs
URL:https://www.plmf.ee/kontsert/hingemuusika-tallinna-muusikakeskkool/
LOCATION:Rootsi-Mihkli kirik\, Rüütli 9\, Tallinn\, Eesti
CATEGORIES:Kontserdid
ATTACH;FMTTYPE=image/jpeg:https://plmf.ee/wp-content/uploads/2021/05/Rootsi_Mihkli_Kirik_Hingemuusika_tunnuspilt_800x600.jpg
ORGANIZER;CN="Pille Lille Muusikute Fond":MAILTO:plmf@plmf.ee
GEO:59.4349799;24.7422417
X-APPLE-STRUCTURED-LOCATION;VALUE=URI;X-ADDRESS=Rootsi-Mihkli kirik Rüütli 9 Tallinn Eesti;X-APPLE-RADIUS=500;X-TITLE=Rüütli 9:geo:24.7422417,59.4349799
END:VEVENT
BEGIN:VEVENT
DTSTART;TZID=Europe/Helsinki:20210606T170000
DTEND;TZID=Europe/Helsinki:20210606T180000
DTSTAMP:20260423T024447
CREATED:20210415T164334Z
LAST-MODIFIED:20210514T091921Z
UID:41543-1622998800-1623002400@www.plmf.ee
SUMMARY:Hingemuusika / Balakin & Kärblane
DESCRIPTION:HINGEMUUSIKA\nRakke kirik\n6.06 kell 17.00\nPavlo Balakin (bass)\, Tiina Kärblane (klaver)\nKavas: Händel\, Bach\, Tšaikovski jt
URL:https://www.plmf.ee/kontsert/hingemuusika-balakin-karblane/
LOCATION:Rakke kirik\, Oru 6\, Rakke\, Lääne-Viru maakond\, 46301\, Eesti
CATEGORIES:Kontserdid
ATTACH;FMTTYPE=image/jpeg:https://plmf.ee/wp-content/uploads/2021/04/06_06_21_Rakke_Hingemuusika_Balakin_K2rblane_tunnuspilt_800x600.jpg
ORGANIZER;CN="Pille Lille Muusikute Fond":MAILTO:plmf@plmf.ee
GEO:58.9818281;26.252417
X-APPLE-STRUCTURED-LOCATION;VALUE=URI;X-ADDRESS=Rakke kirik Oru 6 Rakke Lääne-Viru maakond 46301 Eesti;X-APPLE-RADIUS=500;X-TITLE=Oru 6:geo:26.252417,58.9818281
END:VEVENT
BEGIN:VEVENT
DTSTART;TZID=Europe/Helsinki:20210606T123000
DTEND;TZID=Europe/Helsinki:20210606T133000
DTSTAMP:20260423T024447
CREATED:20210513T141631Z
LAST-MODIFIED:20210513T141631Z
UID:41683-1622982600-1622986200@www.plmf.ee
SUMMARY:Hingemuusika / Balakin & Kärblane
DESCRIPTION:HINGEMUUSIKA\nElva kirik\n6. mai kell 12.30\nPavlo Balakin (bass)\, Tiina Kärblane (klaver)\nKavas: Händel\, Bach\, Tšaikovski jt\nVabaannetus koguduse heaks!
URL:https://www.plmf.ee/kontsert/hingemuusika-balakin-karblane-4/
LOCATION:Elva kirik\, Elva\, 61503 Tartu maakond
CATEGORIES:Kontserdid
ATTACH;FMTTYPE=image/jpeg:https://plmf.ee/wp-content/uploads/2021/05/06_06_21_Elva_Hingemuusika_Balakin_K2rblane_tunnuspilt_800x600.jpg
ORGANIZER;CN="Pille Lille Muusikute Fond":MAILTO:plmf@plmf.ee
GEO:58.2173422;26.3991776
X-APPLE-STRUCTURED-LOCATION;VALUE=URI;X-ADDRESS=Elva kirik Elva 61503 Tartu maakond;X-APPLE-RADIUS=500;X-TITLE=Elva\, 61503 Tartu maakond:geo:26.3991776,58.2173422
END:VEVENT
BEGIN:VEVENT
DTSTART;TZID=Europe/Helsinki:20210604T180000
DTEND;TZID=Europe/Helsinki:20210604T190000
DTSTAMP:20260423T024447
CREATED:20210519T092332Z
LAST-MODIFIED:20210525T141954Z
UID:41833-1622829600-1622833200@www.plmf.ee
SUMMARY:Helimaalingud / Ots\, Tiits\, Langeproon
DESCRIPTION:HELIMAALINGUD\nEesti Rahva Muuseum\n4. juuni kell 18.00\nNeeme Ots (trompet)\, Villem Endel Tiits (trompet)\,\nMikk Langeproon (akordion)\nKavas: Brahms\, Piazzolla\, Monti\, Eller jt
URL:https://www.plmf.ee/kontsert/helimaalingud-ots-tiits-langeproon/
LOCATION:Eesti Rahva Muuseum\, Muuseumi tee 2\, Tartu\, Tartumaa\, 60532\, Estonia
CATEGORIES:Kontserdid
ATTACH;FMTTYPE=image/jpeg:https://plmf.ee/wp-content/uploads/2021/05/04_06_21_ERM_Ots_Tiits_Langeproon_tunnuspilt_800x600.jpg
ORGANIZER;CN="Pille Lille Muusikute Fond":MAILTO:plmf@plmf.ee
GEO:58.394576;26.7434494
X-APPLE-STRUCTURED-LOCATION;VALUE=URI;X-ADDRESS=Eesti Rahva Muuseum Muuseumi tee 2 Tartu Tartumaa 60532 Estonia;X-APPLE-RADIUS=500;X-TITLE=Muuseumi tee 2:geo:26.7434494,58.394576
END:VEVENT
BEGIN:VEVENT
DTSTART;TZID=Europe/Helsinki:20210604T180000
DTEND;TZID=Europe/Helsinki:20210604T190000
DTSTAMP:20260423T024447
CREATED:20210430T124307Z
LAST-MODIFIED:20210513T142732Z
UID:41586-1622829600-1622833200@www.plmf.ee
SUMMARY:Õhtu operetiga / Zaitseva\, Saal & Kärblane
DESCRIPTION:Veriora Kultuur esitleb: \nLeevi rahvamaja \n4. juuni kell 18.00\nÕhtu operetiga\nOlga Zaitseva (sopran)\, Aare Saal (bariton)\, Tiina Kärblane (klaver)\n\nKavas: Lehar\, Bixio\, Curtis jt
URL:https://www.plmf.ee/kontsert/ohtu-operetiga-zaitseva-saal-karblane/
LOCATION:Leevi Rahvamaja\, Kooli 8\, Leevi\, 64231 Põlva maakond
CATEGORIES:Kontserdid
ATTACH;FMTTYPE=image/jpeg:https://plmf.ee/wp-content/uploads/2021/04/04_06_21_Leevi_Zaitseva_Saal_K2rblane_tunnuspilt_800x600.jpg
ORGANIZER;CN="Pille Lille Muusikute Fond":MAILTO:plmf@plmf.ee
GEO:57.9456612;27.2119101
X-APPLE-STRUCTURED-LOCATION;VALUE=URI;X-ADDRESS=Leevi Rahvamaja Kooli 8 Leevi 64231 Põlva maakond;X-APPLE-RADIUS=500;X-TITLE=Kooli 8\, Leevi\, 64231 Põlva maakond:geo:27.2119101,57.9456612
END:VEVENT
BEGIN:VEVENT
DTSTART;TZID=Europe/Helsinki:20210604T110000
DTEND;TZID=Europe/Helsinki:20210604T120000
DTSTAMP:20260423T024447
CREATED:20210525T143329Z
LAST-MODIFIED:20210526T104813Z
UID:41887-1622804400-1622808000@www.plmf.ee
SUMMARY:Helimaalingud / Ots\, Tiits\, Langeproon
DESCRIPTION:HELIMAALINGUD\nHageri Rahvamaja\n4. juuni kell 11.00\nNeeme Ots (trompet)\, Villem Endel Tiits (trompet)\,\nMikk Langeproon (akordion)\nKavas: Brahms\, Piazzolla\, Monti\, Eller jt
URL:https://www.plmf.ee/kontsert/helimaalingud-tallinna-trompetiansambel/
LOCATION:Hageri Rahvamaja\, Kohila tee 18\, Hageri\, Rapla maakond\, 79701
CATEGORIES:Kontserdid
ATTACH;FMTTYPE=image/jpeg:https://plmf.ee/wp-content/uploads/2021/05/04_06_21_Hageri_Ots_Tiits_Langeproon_tunnuspilt_800x600-1.jpg
ORGANIZER;CN="Pille Lille Muusikute Fond":MAILTO:plmf@plmf.ee
GEO:59.1586433;24.6579049
X-APPLE-STRUCTURED-LOCATION;VALUE=URI;X-ADDRESS=Hageri Rahvamaja Kohila tee 18 Hageri Rapla maakond 79701;X-APPLE-RADIUS=500;X-TITLE=Kohila tee 18:geo:24.6579049,59.1586433
END:VEVENT
BEGIN:VEVENT
DTSTART;TZID=Europe/Helsinki:20210530T160000
DTEND;TZID=Europe/Helsinki:20210530T170000
DTSTAMP:20260423T024447
CREATED:20210513T141248Z
LAST-MODIFIED:20210513T141248Z
UID:41672-1622390400-1622394000@www.plmf.ee
SUMMARY:Tallinna Trompetiansambel
DESCRIPTION:EELK Paide Püha Risti kirik\n30.05 kell 16.00\nTallinna Trompetiansambel\nNeeme Ots\, Jaan Ots\, Villem Endel Tiits\, Mart Hakon Reinmets\nKavas: Bach\, Telemann\, Bodin de Boismortier jt
URL:https://www.plmf.ee/kontsert/tallinna-trompetiansambel-2/
CATEGORIES:Kontserdid
ATTACH;FMTTYPE=image/jpeg:https://plmf.ee/wp-content/uploads/2021/05/30_05_21_Paide_Tallinna_Trompetiansambel_tunnuspilt_800x600_vrs2.jpg
ORGANIZER;CN="Pille Lille Muusikute Fond":MAILTO:plmf@plmf.ee
END:VEVENT
BEGIN:VEVENT
DTSTART;TZID=Europe/Helsinki:20210530T123000
DTEND;TZID=Europe/Helsinki:20210530T133000
DTSTAMP:20260423T024447
CREATED:20210326T130206Z
LAST-MODIFIED:20210328T120730Z
UID:41357-1622377800-1622381400@www.plmf.ee
SUMMARY:Tallinna Trompetiansambel
DESCRIPTION:Järva-Jaani kogudus ja PLMF esitlevad:\nJärva-Jaani kirik\n30.05 kell 12.30\nTallinna Trompetiansambel – Neeme Ots\, Jaan Ots\, Mart Hakon Reinmets\, Villem Endel Tiits\nKavas: Bach\, Bodin de Boismortier\, Mendelssohn jt\nVabaannetus kiriku heaks!
URL:https://www.plmf.ee/kontsert/tallinna-trompetiansambel/
LOCATION:Järva-Jaani kirik
CATEGORIES:Kontserdid
ATTACH;FMTTYPE=image/jpeg:https://plmf.ee/wp-content/uploads/2021/03/30_05_21_J2rvaJaani_Tallinna_Trompetiansambel_tunnuspilt_800x600_vrs2-1.jpg
ORGANIZER;CN="Pille Lille Muusikute Fond":MAILTO:plmf@plmf.ee
END:VEVENT
BEGIN:VEVENT
DTSTART;TZID=Europe/Helsinki:20210528T213000
DTEND;TZID=Europe/Helsinki:20210528T223000
DTSTAMP:20260423T024447
CREATED:20210513T140855Z
LAST-MODIFIED:20210518T102454Z
UID:41664-1622237400-1622241000@www.plmf.ee
SUMMARY:Kirikute öö / Akordioniduo
DESCRIPTION:Pilistvere Andrease kirik\nKIRIKUTE ÖÖ\n28.05 kell 21.30\nAkordioniduo Henri Zibo ja Mikk Langeproon\nKavas: Mussorgski\, Tšaikovski jt
URL:https://www.plmf.ee/kontsert/kirikute-oo-akordioniduo/
LOCATION:Pilistvere Andrease kirik\, Pilistvere kirikla\, pk 12\, Pilistvere\, Viljandimaa\, 70502
CATEGORIES:Kontserdid
ATTACH;FMTTYPE=image/jpeg:https://plmf.ee/wp-content/uploads/2021/05/28_05_21_Pilistvere_Zibo_Langeproon_Kirikute_88_tunnuspilt_800x600.jpg
ORGANIZER;CN="Pille Lille Muusikute Fond":MAILTO:plmf@plmf.ee
GEO:58.6625393;25.7307615
X-APPLE-STRUCTURED-LOCATION;VALUE=URI;X-ADDRESS=Pilistvere Andrease kirik Pilistvere kirikla pk 12 Pilistvere Viljandimaa 70502;X-APPLE-RADIUS=500;X-TITLE=Pilistvere kirikla\, pk 12:geo:25.7307615,58.6625393
END:VEVENT
BEGIN:VEVENT
DTSTART;TZID=Europe/Helsinki:20210528T190000
DTEND;TZID=Europe/Helsinki:20210528T200000
DTSTAMP:20260423T024447
CREATED:20210518T104412Z
LAST-MODIFIED:20210518T104437Z
UID:41819-1622228400-1622232000@www.plmf.ee
SUMMARY:Kirikute öö / Akordioniduo
DESCRIPTION:Tartu Maarja kirik\n28.05 kell 19.00\nKIRIKUTE ÖÖ\nakordioniduo Henri Zibo ja Mikk Langeproon\nKavas: Tšaikovski\, Mussorgski\, Boëllmann jt \n\nVabaannetus Tartu Maarja kiriku ülesehitamise heaks!
URL:https://www.plmf.ee/kontsert/41819/
LOCATION:Tartu Maarja kirik\, Õpetaja 5\, Tartu\, Tartumaa\, 51003\, Estonia
CATEGORIES:Kontserdid
ATTACH;FMTTYPE=image/jpeg:https://plmf.ee/wp-content/uploads/2021/05/28_05_21_TartuMaarja_Zibo_Langeproon_tunnuspilt_800x600-1.jpg
ORGANIZER;CN="Pille Lille Muusikute Fond":MAILTO:plmf@plmf.ee
GEO:58.3749919;26.7169506
X-APPLE-STRUCTURED-LOCATION;VALUE=URI;X-ADDRESS=Tartu Maarja kirik Õpetaja 5 Tartu Tartumaa 51003 Estonia;X-APPLE-RADIUS=500;X-TITLE=Õpetaja 5:geo:26.7169506,58.3749919
END:VEVENT
BEGIN:VEVENT
DTSTART;TZID=Europe/Helsinki:20210528T190000
DTEND;TZID=Europe/Helsinki:20210528T200000
DTSTAMP:20260423T024447
CREATED:20210513T135522Z
LAST-MODIFIED:20210514T091044Z
UID:41651-1622228400-1622232000@www.plmf.ee
SUMMARY:Hingemuusika / Balakin & Kärblane
DESCRIPTION:HINGEMUUSIKA\nTõrva Kirik-Kammersaal\n28. mai kell 19\nPavlo Balakin (bass)\, Tiina Kärblane (klaver)\nKavas: Verdi\, Händel\, Schubert jt
URL:https://www.plmf.ee/kontsert/hingemuusika-balakin-karblane-3/
LOCATION:Tõrva kirik-kammersaal\, Valga tn. 44\, Valga\, Valgamaa\, 68606\, Estonia
CATEGORIES:Kontserdid
ATTACH;FMTTYPE=image/jpeg:https://plmf.ee/wp-content/uploads/2021/05/20_05_21_TYObs_Balakin_K2rblane_tunnuspilt_800x600.jpg
ORGANIZER;CN="Pille Lille Muusikute Fond":MAILTO:plmf@plmf.ee
GEO:57.9997529;25.9301738
X-APPLE-STRUCTURED-LOCATION;VALUE=URI;X-ADDRESS=Tõrva kirik-kammersaal Valga tn. 44 Valga Valgamaa 68606 Estonia;X-APPLE-RADIUS=500;X-TITLE=Valga tn. 44:geo:25.9301738,57.9997529
END:VEVENT
BEGIN:VEVENT
DTSTART;TZID=Europe/Helsinki:20210528T160000
DTEND;TZID=Europe/Helsinki:20210528T170000
DTSTAMP:20260423T024447
CREATED:20210326T123612Z
LAST-MODIFIED:20210528T075236Z
UID:41352-1622217600-1622221200@www.plmf.ee
SUMMARY:Õhtu operetiga / Balakin & Kärblane
DESCRIPTION:TÜ Observatoorium esitleb:\nÕhtu operetiga\nTÜ Observatoorium\n28.05 kell 16.00\nPavlo Balakin (bass)\, Tiina Kärblane (klaver)\nKavas: Verdi\, Händel\, Schubert jt \nvaba sissepääs!
URL:https://www.plmf.ee/kontsert/hingemuusika-pavlo-balakin-ja-tiina-karblane/
LOCATION:TÜ Tartu observatoorium
CATEGORIES:Kontserdid
ATTACH;FMTTYPE=image/jpeg:https://plmf.ee/wp-content/uploads/2021/03/28_05_21_TY_Obs_Balakin_K2rblane_tunnuspilt_800x600.jpg
ORGANIZER;CN="Pille Lille Muusikute Fond":MAILTO:plmf@plmf.ee
END:VEVENT
BEGIN:VEVENT
DTSTART;TZID=Europe/Helsinki:20210528T123000
DTEND;TZID=Europe/Helsinki:20210528T133000
DTSTAMP:20260423T024447
CREATED:20210415T123306Z
LAST-MODIFIED:20210415T123306Z
UID:41519-1622205000-1622208600@www.plmf.ee
SUMMARY:Akordioniduo / Langeproon & Zibo
DESCRIPTION:EELK Aegviidu Aleksandri kogudus esitleb:\nAegviidu kirik\n28. mai 12.30\nHenri Zibo ja Mikk Langeproon\nKavas: Tšaikovski\, Mussorgski\, Boëllmann jt
URL:https://www.plmf.ee/kontsert/akordioniduo-langeproon-zibo/
LOCATION:Aegviidu kirik
CATEGORIES:Kontserdid
ATTACH;FMTTYPE=image/jpeg:https://plmf.ee/wp-content/uploads/2021/04/28_05_21_Aegviidu_Zibo_Langeproon_tunnuspilt_800x600.jpg
ORGANIZER;CN="Pille Lille Muusikute Fond":MAILTO:plmf@plmf.ee
END:VEVENT
BEGIN:VEVENT
DTSTART;TZID=Europe/Helsinki:20210224T160000
DTEND;TZID=Europe/Helsinki:20210224T170000
DTSTAMP:20260423T024447
CREATED:20210207T075359Z
LAST-MODIFIED:20210207T075359Z
UID:40787-1614182400-1614186000@www.plmf.ee
SUMMARY:Eesti Vabariigi aastapäeva kontsert / Cello Duo - Andreas Lend\, Johannes Sarapuu
DESCRIPTION:
URL:https://www.plmf.ee/kontsert/eesti-vabariigi-aastapaeva-kontsert-cello-duo-andreas-lend-johannes-sarapuu/
LOCATION:Tõrva kirik-kammersaal\, Valga tn. 44\, Valga\, Valgamaa\, 68606\, Estonia
CATEGORIES:Kontserdid
ATTACH;FMTTYPE=image/jpeg:https://plmf.ee/wp-content/uploads/2021/02/24_02_21_T6rva_Lend_Sarapuu_tunnuspilt_800x600.jpg
ORGANIZER;CN="Pille Lille Muusikute Fond":MAILTO:plmf@plmf.ee
GEO:57.9997529;25.9301738
X-APPLE-STRUCTURED-LOCATION;VALUE=URI;X-ADDRESS=Tõrva kirik-kammersaal Valga tn. 44 Valga Valgamaa 68606 Estonia;X-APPLE-RADIUS=500;X-TITLE=Valga tn. 44:geo:25.9301738,57.9997529
END:VEVENT
BEGIN:VEVENT
DTSTART;TZID=Europe/Helsinki:20210224T120000
DTEND;TZID=Europe/Helsinki:20210224T130000
DTSTAMP:20260423T024447
CREATED:20210207T075814Z
LAST-MODIFIED:20210207T080518Z
UID:40795-1614168000-1614171600@www.plmf.ee
SUMMARY:Eesti Vabariigi aastapäeva kontsert / Cello Duo - Andreas Lend\, Johannes Sarapuu
DESCRIPTION:
URL:https://www.plmf.ee/kontsert/eesti-vabariigi-aastapaeva-kontsert-cello-duo-andreas-lend-johannes-sarapuu-2/
LOCATION:Lüllemäe Kultuurimaja
CATEGORIES:Kontserdid
ATTACH;FMTTYPE=image/jpeg:https://plmf.ee/wp-content/uploads/2021/02/24_02_21_Lyllem2e_Lend_Sarapuu_tunnuspilt_800x600.jpg
ORGANIZER;CN="Pille Lille Muusikute Fond":MAILTO:plmf@plmf.ee
END:VEVENT
BEGIN:VEVENT
DTSTART;TZID=Europe/Helsinki:20210221T180000
DTEND;TZID=Europe/Helsinki:20210221T190000
DTSTAMP:20260423T024447
CREATED:20210118T094802Z
LAST-MODIFIED:20210118T094802Z
UID:40575-1613930400-1613934000@www.plmf.ee
SUMMARY:XIV Tallinna Talvefestival / Johan Randvere (klaver)\, RO Estonia Poistekoor ja Noormeestekoor (dirigent Hirvo Surva)\, keelpilliansambel Võlukeeled (juhendaja Tereza Šmerling)
DESCRIPTION:
URL:https://www.plmf.ee/kontsert/xiv-tallinna-talvefestival-johan-randvere-klaver-ro-estonia-poistekoor-ja-noormeestekoor-dirigent-hirvo-surva-keelpilliansambel-volukeeled-juhendaja-tereza-smerling/
LOCATION:Tallinna Kaarli kirik
CATEGORIES:Kontserdid,Tallinna Talvefestival
ATTACH;FMTTYPE=image/jpeg:https://plmf.ee/wp-content/uploads/2021/01/TTF2021_tunnuspilt_800x600.jpg
ORGANIZER;CN="Pille Lille Muusikute Fond":MAILTO:plmf@plmf.ee
END:VEVENT
BEGIN:VEVENT
DTSTART;TZID=Europe/Helsinki:20210220T180000
DTEND;TZID=Europe/Helsinki:20210220T190000
DTSTAMP:20260423T024447
CREATED:20210118T092647Z
LAST-MODIFIED:20210208T221400Z
UID:40566-1613844000-1613847600@www.plmf.ee
SUMMARY:XIV Tallinna Talvefestival / Irina Zahharenkova (klaver)
DESCRIPTION:
URL:https://www.plmf.ee/kontsert/xiv-tallinna-talvefestival-irina-zahharenkova-klaver/
LOCATION:Tallinna Filharmoonia Mustpeade Maja
CATEGORIES:Kontserdid,Tallinna Talvefestival
ATTACH;FMTTYPE=image/jpeg:https://plmf.ee/wp-content/uploads/2021/01/TTF2021_tunnuspilt_800x600.jpg
ORGANIZER;CN="Pille Lille Muusikute Fond":MAILTO:plmf@plmf.ee
END:VEVENT
BEGIN:VEVENT
DTSTART;TZID=Europe/Helsinki:20210218T180000
DTEND;TZID=Europe/Helsinki:20210218T190000
DTSTAMP:20260423T024447
CREATED:20210118T092118Z
LAST-MODIFIED:20210118T092118Z
UID:40556-1613671200-1613674800@www.plmf.ee
SUMMARY:XIV Tallinna Talvefestival / Kristina Kriit (viiul)\, Johanna Vahermägi (vioola)\,  Andreas Lend (tšello)
DESCRIPTION:
URL:https://www.plmf.ee/kontsert/xiv-tallinna-talvefestival-kristina-kriit-viiul-johanna-vahermagi-vioola-andreas-lend-tsello/
LOCATION:Tallinna Filharmoonia Mustpeade Maja
CATEGORIES:Kontserdid,Tallinna Talvefestival
ATTACH;FMTTYPE=image/jpeg:https://plmf.ee/wp-content/uploads/2021/01/TTF2021_tunnuspilt_800x600.jpg
ORGANIZER;CN="Pille Lille Muusikute Fond":MAILTO:plmf@plmf.ee
END:VEVENT
BEGIN:VEVENT
DTSTART;TZID=Europe/Helsinki:20210217T180000
DTEND;TZID=Europe/Helsinki:20210217T190000
DTSTAMP:20260423T024447
CREATED:20210117T150832Z
LAST-MODIFIED:20210211T135005Z
UID:40543-1613584800-1613588400@www.plmf.ee
SUMMARY:XIV Tallinna Talvefestival / Virgo Veldi (saksofon)\, Toomas Vavilov (klarnet)\, Ralf Taal (klaver)
DESCRIPTION:
URL:https://www.plmf.ee/kontsert/xiv-tallinna-talvefestival-virgo-veldi-saksofon-toomas-vavilov-klarnet-marko-martin-klaver/
LOCATION:Tallinna Filharmoonia Mustpeade Maja
CATEGORIES:Kontserdid,Tallinna Talvefestival
ATTACH;FMTTYPE=image/jpeg:https://plmf.ee/wp-content/uploads/2021/01/TTF2021_tunnuspilt_800x600.jpg
ORGANIZER;CN="Pille Lille Muusikute Fond":MAILTO:plmf@plmf.ee
END:VEVENT
BEGIN:VEVENT
DTSTART;TZID=Europe/Helsinki:20210216T150000
DTEND;TZID=Europe/Helsinki:20210216T160000
DTSTAMP:20260423T024447
CREATED:20210114T233104Z
LAST-MODIFIED:20210114T233104Z
UID:40526-1613487600-1613491200@www.plmf.ee
SUMMARY:XIV Tallinna Talvefestival / Andreas Lend (tšello)\, Jelena Ossipova (kitarr)\, Svetlana Kekiševa (orel)
DESCRIPTION:
URL:https://www.plmf.ee/kontsert/xiv-tallinna-talvefestival-andreas-lend-tsello-jelena-ossipova-kitarr-svetlana-kekiseva-orel/
LOCATION:Rootsi-Mihkli kirik\, Rüütli 9\, Tallinn\, Eesti
CATEGORIES:Kontserdid,Tallinna Talvefestival
ATTACH;FMTTYPE=image/jpeg:https://plmf.ee/wp-content/uploads/2021/01/TTF2021_tunnuspilt_800x600.jpg
ORGANIZER;CN="Pille Lille Muusikute Fond":MAILTO:plmf@plmf.ee
GEO:59.4349799;24.7422417
X-APPLE-STRUCTURED-LOCATION;VALUE=URI;X-ADDRESS=Rootsi-Mihkli kirik Rüütli 9 Tallinn Eesti;X-APPLE-RADIUS=500;X-TITLE=Rüütli 9:geo:24.7422417,59.4349799
END:VEVENT
BEGIN:VEVENT
DTSTART;TZID=Europe/Helsinki:20210214T150000
DTEND;TZID=Europe/Helsinki:20210214T160000
DTSTAMP:20260423T024447
CREATED:20210114T230717Z
LAST-MODIFIED:20210208T175602Z
UID:40490-1613314800-1613318400@www.plmf.ee
SUMMARY:XIV Tallinna Talvefestival / Maria Veretenina (sopran)\, Ivo Posti (kontratenor)\, Piia Paemurru (klaver)
DESCRIPTION:
URL:https://www.plmf.ee/kontsert/xiv-tallinna-talvefestival-maria-veretenina-sopran-ivo-posti-kontratenor-piia-paemurru-klaver/
LOCATION:Tallinna Filharmoonia Mustpeade Maja
CATEGORIES:Kontserdid,Tallinna Talvefestival
ATTACH;FMTTYPE=image/jpeg:https://plmf.ee/wp-content/uploads/2021/01/TTF2021_tunnuspilt_800x600.jpg
ORGANIZER;CN="Pille Lille Muusikute Fond":MAILTO:plmf@plmf.ee
END:VEVENT
BEGIN:VEVENT
DTSTART;TZID=Europe/Helsinki:20210207T150000
DTEND;TZID=Europe/Helsinki:20210207T160000
DTSTAMP:20260423T024447
CREATED:20210127T114120Z
LAST-MODIFIED:20210207T080154Z
UID:40684-1612710000-1612713600@www.plmf.ee
SUMMARY:Annetekoda 2021 / Uku Suviste
DESCRIPTION:OSTA PILET SIIT!
URL:https://www.plmf.ee/kontsert/annetekoda-2021-uku-suviste/
LOCATION:Rootsi-Mihkli kirik\, Rüütli 9\, Tallinn\, Eesti
CATEGORIES:Annetekoda,Kontserdid
ATTACH;FMTTYPE=image/jpeg:https://plmf.ee/wp-content/uploads/2021/01/Annetekoda_2021_tunnuspilt_800x600vrs3.jpg
ORGANIZER;CN="Pille Lille Muusikute Fond":MAILTO:plmf@plmf.ee
GEO:59.4349799;24.7422417
X-APPLE-STRUCTURED-LOCATION;VALUE=URI;X-ADDRESS=Rootsi-Mihkli kirik Rüütli 9 Tallinn Eesti;X-APPLE-RADIUS=500;X-TITLE=Rüütli 9:geo:24.7422417,59.4349799
END:VEVENT
BEGIN:VEVENT
DTSTART;TZID=Europe/Helsinki:20201220T123000
DTEND;TZID=Europe/Helsinki:20201220T170000
DTSTAMP:20260423T024447
CREATED:20201205T113212Z
LAST-MODIFIED:20201205T113212Z
UID:40325-1608467400-1608483600@www.plmf.ee
SUMMARY:JÕULUOOTUS / Olga Zaitseva (sopran)\, Piia Paemurru (klaver)
DESCRIPTION:
URL:https://www.plmf.ee/kontsert/jouluootus-olga-zaitseva-sopran-piia-paemurru-klaver/
LOCATION:Järva-Jaani koguduse pastoraat
CATEGORIES:Kontserdid
ATTACH;FMTTYPE=image/jpeg:https://plmf.ee/wp-content/uploads/2020/12/20_12_20_J2rvaJaani_J6uluootus_tunnuspilt_800x600.jpg
ORGANIZER;CN="Pille Lille Muusikute Fond":MAILTO:plmf@plmf.ee
END:VEVENT
END:VCALENDAR