BEGIN:VCALENDAR
VERSION:2.0
PRODID:-//Pille Lill Music Fund - ECPv6.15.17.1//NONSGML v1.0//EN
CALSCALE:GREGORIAN
METHOD:PUBLISH
X-WR-CALNAME:Pille Lill Music Fund
X-ORIGINAL-URL:https://www.plmf.ee/en/
X-WR-CALDESC:Events for Pille Lill Music Fund
REFRESH-INTERVAL;VALUE=DURATION:PT1H
X-Robots-Tag:noindex
X-PUBLISHED-TTL:PT1H
BEGIN:VTIMEZONE
TZID:Europe/Moscow
BEGIN:STANDARD
TZOFFSETFROM:+0300
TZOFFSETTO:+0300
TZNAME:MSK
DTSTART:20160101T000000
END:STANDARD
END:VTIMEZONE
BEGIN:VEVENT
DTSTART;TZID=Europe/Moscow:20180228T180000
DTEND;TZID=Europe/Moscow:20180228T180000
DTSTAMP:20260425T213122
CREATED:20180127T141945Z
LAST-MODIFIED:20180127T143527Z
UID:28385-1519840800-1519840800@www.plmf.ee
SUMMARY:The 100th anniversary of the Republic of Estonia concert
DESCRIPTION:28th of February at 6 p.m\nTõrva church-chamber hall\nVirgo Veldi (saxophone)\nHenri Zibo (accordion)\nProgramme: Lutsoja\, Kõrvits\, Uusberg etc
URL:https://www.plmf.ee/en/event/eesti-vabariigi-100-aastapaeva-kontsert-2/
LOCATION:Tõrva Church-Chamber hall\, Valga tn. 44\, Valga\, Valgamaa\, 68606\, Estonia
CATEGORIES:Concerts
GEO:57.9997529;25.9301738
X-APPLE-STRUCTURED-LOCATION;VALUE=URI;X-ADDRESS=Tõrva Church-Chamber hall Valga tn. 44 Valga Valgamaa 68606 Estonia;X-APPLE-RADIUS=500;X-TITLE=Valga tn. 44:geo:25.9301738,57.9997529
END:VEVENT
BEGIN:VEVENT
DTSTART;TZID=Europe/Moscow:20171126T160000
DTEND;TZID=Europe/Moscow:20171126T160000
DTSTAMP:20260425T213122
CREATED:20171020T113457Z
LAST-MODIFIED:20171218T091301Z
UID:25408-1511712000-1511712000@www.plmf.ee
SUMMARY:Soul to sound
DESCRIPTION:Soul to sound\n\n\n26th November at 4 p.m\nTõrva Church-Chamber hall \nKristina Kriit (violin)\nJohan Randvere (piano)\nProgramme: Chopin\, Prokofjev\, Saint-Saëns etc \nFree entrance \nPicture: https://www.visitestonia.com/en/torva-church-chamber-hall
URL:https://www.plmf.ee/en/event/soul-to-sound/
LOCATION:Tõrva Church-Chamber hall\, Valga tn. 44\, Valga\, Valgamaa\, 68606\, Estonia
CATEGORIES:Concerts
ATTACH;FMTTYPE=image/jpeg:https://plmf.ee/wp-content/uploads/2017/10/Tõrvakirik-kammersaal.jpg
ORGANIZER;CN="Music Trust PLMF":MAILTO:plmf@plmf.ee
GEO:57.9997529;25.9301738
X-APPLE-STRUCTURED-LOCATION;VALUE=URI;X-ADDRESS=Tõrva Church-Chamber hall Valga tn. 44 Valga Valgamaa 68606 Estonia;X-APPLE-RADIUS=500;X-TITLE=Valga tn. 44:geo:25.9301738,57.9997529
END:VEVENT
BEGIN:VEVENT
DTSTART;TZID=Europe/Moscow:20171118T120000
DTEND;TZID=Europe/Moscow:20171118T120000
DTSTAMP:20260425T213122
CREATED:20171020T091720Z
LAST-MODIFIED:20171020T091720Z
UID:25392-1511006400-1511006400@www.plmf.ee
SUMMARY:Music of your soul (free)
DESCRIPTION:Music of your soul\n\n\n18th November at 12 p.m\nTõrva Church-Chamber hall\n\nPille Lill (soprano)\nOliver Kuusik (tenor)\nPiia Paemurru (piano)\n\nFree entrance\nPicture: https://www.visitestonia.com/en/torva-church-chamber-hall
URL:https://www.plmf.ee/en/event/music-of-your-soul-free/
LOCATION:Tõrva Church-Chamber hall\, Valga tn. 44\, Valga\, Valgamaa\, 68606\, Estonia
CATEGORIES:Concerts
ATTACH;FMTTYPE=image/jpeg:https://plmf.ee/wp-content/uploads/2017/10/Tõrvakirik-kammersaal.jpg
ORGANIZER;CN="Music Trust PLMF":MAILTO:plmf@plmf.ee
GEO:57.9997529;25.9301738
X-APPLE-STRUCTURED-LOCATION;VALUE=URI;X-ADDRESS=Tõrva Church-Chamber hall Valga tn. 44 Valga Valgamaa 68606 Estonia;X-APPLE-RADIUS=500;X-TITLE=Valga tn. 44:geo:25.9301738,57.9997529
END:VEVENT
END:VCALENDAR