BEGIN:VCALENDAR
VERSION:2.0
PRODID:-//Pille Lill Music Fund - ECPv6.15.17.1//NONSGML v1.0//EN
CALSCALE:GREGORIAN
METHOD:PUBLISH
X-ORIGINAL-URL:https://www.plmf.ee/en/
X-WR-CALDESC:Events for Pille Lill Music Fund
REFRESH-INTERVAL;VALUE=DURATION:PT1H
X-Robots-Tag:noindex
X-PUBLISHED-TTL:PT1H
BEGIN:VTIMEZONE
TZID:Europe/Helsinki
BEGIN:DAYLIGHT
TZOFFSETFROM:+0200
TZOFFSETTO:+0300
TZNAME:EEST
DTSTART:20250330T010000
END:DAYLIGHT
BEGIN:STANDARD
TZOFFSETFROM:+0300
TZOFFSETTO:+0200
TZNAME:EET
DTSTART:20251026T010000
END:STANDARD
BEGIN:DAYLIGHT
TZOFFSETFROM:+0200
TZOFFSETTO:+0300
TZNAME:EEST
DTSTART:20260329T010000
END:DAYLIGHT
BEGIN:STANDARD
TZOFFSETFROM:+0300
TZOFFSETTO:+0200
TZNAME:EET
DTSTART:20261025T010000
END:STANDARD
BEGIN:DAYLIGHT
TZOFFSETFROM:+0200
TZOFFSETTO:+0300
TZNAME:EEST
DTSTART:20270328T010000
END:DAYLIGHT
BEGIN:STANDARD
TZOFFSETFROM:+0300
TZOFFSETTO:+0200
TZNAME:EET
DTSTART:20271031T010000
END:STANDARD
END:VTIMEZONE
BEGIN:VEVENT
DTSTART;TZID=Europe/Helsinki:20260708T190000
DTEND;TZID=Europe/Helsinki:20260708T210000
DTSTAMP:20260421T122006
CREATED:20260416T163603Z
LAST-MODIFIED:20260416T164109Z
UID:64507-1783537200-1783544400@www.plmf.ee
SUMMARY:Music Trust PLMF “30th Anniversary Concert of the Church” at Järvakandi Church – performed by finalists of Raplamaa Young Musician
DESCRIPTION:Järvakandi Church8.07 at 19PM\n30TH ANNIVERSARY CONCERT OF THE CHURCH*dedicated to writer and composer Enn Vetemaa\nPerforming are the Finalists of VI Raplamaa Young Musician 2026Amanda Pihl (violin)\, flutists Grit Vesinurm and Eliisabet Pere\,saxophonists Lukas Läätsim\, Johan Lepiste and Avigeja-Azalea Žilina\,Emil Johannes Välja (tuba)\,Gustav Jürjens (French horn)\n*Poetry by Enn Vetemaa read by students of the Rapla Vesiroosi School\ntheatre studio “Ega Vist”\nTickets available at PILETILEVI
URL:https://www.plmf.ee/en/event/music-trust-plmf-30th-anniversary-concert-of-the-church-at-jarvakandi-church-performed-by-finalists-of-raplamaa-young-musician/
LOCATION:Järvakandi Pauluse kirik\, Vana-Asula Tn 1\, Järvakandi\, Rapla maakond\, 79101
CATEGORIES:Concerts
ATTACH;FMTTYPE=image/png:https://www.plmf.ee/wp-content/uploads/2026/04/2-33.png
ORGANIZER;CN="Music Trust PLMF":MAILTO:plmf@plmf.ee
GEO:58.776808;24.8156867
X-APPLE-STRUCTURED-LOCATION;VALUE=URI;X-ADDRESS=Järvakandi Pauluse kirik Vana-Asula Tn 1 Järvakandi Rapla maakond 79101;X-APPLE-RADIUS=500;X-TITLE=Vana-Asula Tn 1:geo:24.8156867,58.776808
END:VEVENT
BEGIN:VEVENT
DTSTART;TZID=Europe/Helsinki:20260710T190000
DTEND;TZID=Europe/Helsinki:20260710T210000
DTSTAMP:20260421T122006
CREATED:20260416T165015Z
LAST-MODIFIED:20260416T165255Z
UID:64516-1783710000-1783717200@www.plmf.ee
SUMMARY:Music Trust PLMF “Classical Music in Jazz” concert at Vahastu Church – ArtTrio
DESCRIPTION:Vahastu Church\n10.07 at 19PM\nClassical Music in Jazz\nArtTrio: Toivo Unt (double bass)\, Tiit Joamets (percussion)\, Mai Rosenroth (violin)\nwith Janne Ševtšenko (soprano\, Estonian National Opera)\nPuccini\, Bizet\, Tamberg\, Bolling\, and others\nTickets available at PILETILEVIS
URL:https://www.plmf.ee/en/event/music-trust-plmf-classical-music-in-jazz-concert-at-vahastu-church-arttrio/
LOCATION:Vahastu kirik
CATEGORIES:Concerts
ATTACH;FMTTYPE=image/png:https://www.plmf.ee/wp-content/uploads/2026/04/2-33.png
ORGANIZER;CN="Music Trust PLMF":MAILTO:plmf@plmf.ee
END:VEVENT
BEGIN:VEVENT
DTSTART;TZID=Europe/Helsinki:20260712T190000
DTEND;TZID=Europe/Helsinki:20260712T210000
DTSTAMP:20260421T122006
CREATED:20260416T165927Z
LAST-MODIFIED:20260416T170250Z
UID:64522-1783882800-1783890000@www.plmf.ee
SUMMARY:Music Trust PLMF Festival Closing Concert “Requiem” at Rapla Church – Tallinn Chamber Choir and Mixed Choir Cantus
DESCRIPTION:Rapla Church12.07 at 19PM\nFESTIVAL CLOSING CONCERT – REQUIEM\nTallinn Chamber Choir and Mixed Choir CantusConductors: Heli Jürgenson\, Martin TrudnikovSoloist: Mariliis Lahesalu (soprano)\nChamber ensemble: Mari-Liis Vind (flute)\, Aleksander Hännikäinen (oboe)\,\nAndreas Lend (cello)\, Saale Kivimaker (harp)\,Gertrud Leopard (bells)\, Teodor Hirvoja (timpani)Organ: Ene Salumäe\nJohn Rutter “Requiem”\, Arvo Pärt “Salve Regina” and “Trivium”\n*At 18:00 in the churchyard: discussion meeting “Enn Vetemaa 90”\nTickets available at PILETILEVI
URL:https://www.plmf.ee/en/event/music-trust-plmf-festival-closing-concert-requiem-at-rapla-church-tallinn-chamber-choir-and-mixed-choir-cantus/
LOCATION:Rapla kirik\, Tallinna mnt 7\, Rapla\, Rapla maakond\, 79513\, Eesti
CATEGORIES:Concerts
ATTACH;FMTTYPE=image/png:https://www.plmf.ee/wp-content/uploads/2026/04/2-33.png
ORGANIZER;CN="Music Trust PLMF":MAILTO:plmf@plmf.ee
END:VEVENT
END:VCALENDAR